BEGIN:VCALENDAR
VERSION:2.0
PRODID:-//ChamberMaster//Event Calendar 2.0//EN
METHOD:PUBLISH
X-PUBLISHED-TTL:P3D
REFRESH-INTERVAL:P3D
CALSCALE:GREGORIAN
BEGIN:VEVENT
DTSTART:20210916T153000Z
DTEND:20210916T233000Z
X-MICROSOFT-CDO-ALLDAYEVENT:FALSE
SUMMARY:Excellence in Management - a 4 part Michael Nash Workshop
DESCRIPTION:Attention all Managers\, Supervisors\, Leaders\, Owners\, Management Teams and Aspiring Managers & Leaders: Developing management skills both as individuals and as a management team is the key to achieving a vibrant\, effective\, creative\, efficient and positive workplace. Come learn how to build and maintain employee morale\, lead great meetings\, ask for and receive helpful feedback\, coach employees toward improved behaviors\, decrease negativity in the workplace and much more. This is a 4 part series you do not want to miss! Eventbrite Link: https://www.eventbrite.com/e/excellence-in-management-a-nash-consulting-workshop-tickets-162073134107?aff=ebdssbdestsearch
X-ALT-DESC;FMTTYPE=text/html:Attention all Managers\, Supervisors\, Leaders\, Owners\, Management Teams and Aspiring Managers &amp\; Leaders: Developing management skills both as individuals and as a management team is the key to achieving a vibrant\, effective\, creative\, efficient and positive workplace. Come learn how to build and maintain employee morale\, lead great meetings\, ask for and receive helpful feedback\, coach employees toward improved behaviors\, decrease negativity in the workplace and much more. This is a 4 part series you do not want to miss! Eventbrite Link: https://www.eventbrite.com/e/excellence-in-management-a-nash-consulting-workshop-tickets-162073134107?aff=ebdssbdestsearch
LOCATION:Confluence Technology Center
UID:e.289.7869
SEQUENCE:3
DTSTAMP:20260424T135424Z
URL:https://business.wenatchee.org/events/details/excellence-in-management-a-4-part-michael-nash-workshop-7869
END:VEVENT

END:VCALENDAR
