BEGIN:VCALENDAR
VERSION:2.0
PRODID:-//ChamberMaster//Event Calendar 2.0//EN
METHOD:PUBLISH
X-PUBLISHED-TTL:P3D
REFRESH-INTERVAL:P3D
CALSCALE:GREGORIAN
BEGIN:VEVENT
DTSTART:20190920T000000Z
DTEND:20190920T020000Z
X-MICROSOFT-CDO-ALLDAYEVENT:FALSE
SUMMARY:Everyday Strength Grand Opening
DESCRIPTION:With 11+ years of experience owner\, Sam Petersen\, officially opened her doors in April of this year and is ready to invite you all in for a Grand Opening celebration! Everyday Strength provides personalized body solutions focusing on issues that are causing pain for a person with loss of range of motion. She works together with you to repair and strengthen body mechanics. \n\n\n\nJoin us in the gym on September 19th from 5-7pm to meet Sam and see her philosophy for yourself in a social setting. After some networking she would like to invite us to participate in a mini workout that EVERYONE can do! Feel free to bring a change of clothes if you'd like to participate\, if you don't\, that's OK too you can just watch!
X-ALT-DESC;FMTTYPE=text/html:<span style="color: rgb(29\, 33\, 41)\; font-family: Helvetica\, Arial\, sans-serif\; font-size: 14px\; white-space: pre-wrap\;">With 11+ years of experience owner\, Sam Petersen\, officially opened her doors in April of this year and is ready to invite you all in for a Grand Opening celebration! Everyday Strength provides personalized body solutions focusing on issues that are causing pain for a person with loss of range of motion. She works together with you to repair and strengthen body mechanics. </span><br style="color: rgb(29\, 33\, 41)\; font-family: Helvetica\, Arial\, sans-serif\; font-size: 14px\; white-space: pre-wrap\;" />\n<br style="color: rgb(29\, 33\, 41)\; font-family: Helvetica\, Arial\, sans-serif\; font-size: 14px\; white-space: pre-wrap\;" />\n<span style="color: rgb(29\, 33\, 41)\; font-family: Helvetica\, Arial\, sans-serif\; font-size: 14px\; white-space: pre-wrap\;">Join us in the gym on September 19th from 5-7pm to meet Sam and see her philosophy for yourself in a social setting. After some networking she would like to invite us to participate in a mini workout that EVERYONE can do! Feel free to bring a change of clothes if you&#39\;d like to participate\, if you don&#39\;t\, that&#39\;s OK too you can just watch!</span>
LOCATION:Everyday Strength 474 Highline Dr. D2 East Wenatchee\, WA 98802
UID:e.289.7413
SEQUENCE:3
DTSTAMP:20260425T134256Z
URL:https://business.wenatchee.org/events/details/everyday-strength-grand-opening-7413
END:VEVENT

END:VCALENDAR
