BEGIN:VCALENDAR
VERSION:2.0
PRODID:-//ChamberMaster//Event Calendar 2.0//EN
METHOD:PUBLISH
X-PUBLISHED-TTL:P3D
REFRESH-INTERVAL:P3D
CALSCALE:GREGORIAN
BEGIN:VEVENT
DTSTART:20190723T183000Z
DTEND:20190723T200000Z
X-MICROSOFT-CDO-ALLDAYEVENT:FALSE
SUMMARY:Entrepreneurial Panel: New & Emerging Industries
DESCRIPTION:This is your chance to hear stories and advice from four entrepreneurs located in the Wenatchee Valley. Learn about their companies\, unique experiences\, and how they got their start in the world of entrepreneurship. Engage with the entrepreneurs and join the conversation during the audience Q&A.
X-ALT-DESC;FMTTYPE=text/html:This is your chance to hear stories and advice from four entrepreneurs located in the Wenatchee Valley. Learn about their companies\, unique experiences\, and how they got their start in the world of entrepreneurship. Engage with the entrepreneurs and join the conversation during the audience Q&amp\;A.
LOCATION:Confluence Technology Center 285 Technology Center Way Wenatchee\, WA 98801
UID:e.289.7336
SEQUENCE:3
DTSTAMP:20260425T163047Z
URL:https://business.wenatchee.org/events/details/entrepreneurial-panel-new-emerging-industries-7336
END:VEVENT

END:VCALENDAR
