BEGIN:VCALENDAR
VERSION:2.0
PRODID:-//ChamberMaster//Event Calendar 2.0//EN
METHOD:PUBLISH
X-PUBLISHED-TTL:P3D
REFRESH-INTERVAL:P3D
CALSCALE:GREGORIAN
BEGIN:VEVENT
DTSTART:20190319T173000Z
DTEND:20190319T200000Z
X-MICROSOFT-CDO-ALLDAYEVENT:FALSE
SUMMARY:Entrepreneurial Panel: Business Owners 35 And Under
DESCRIPTION:This is your chance to hear stories and advice from four entrepreneurs located in the Wenatchee Valley. Learn about their companies\, unique experiences\, and how they got their start in the world of entrepreneurship. Engage with the entrepreneurs and join the conversation during the audience Q&A. This event includes time for networking and lunch. Feel free to bring your own lunch or purchase a lunch ticket (additional $10) for catered lunch from Dilly Deli. You can purchase lunch at the door. Panelists include: Charley Voorhis - Voortex Productions Brittany & Matthew Tait - Osteostrong And more! Event Sponsors: Harvest Valley Pest Control
X-ALT-DESC;FMTTYPE=text/html:This is your chance to hear stories and advice from four entrepreneurs located in the Wenatchee Valley. Learn about their companies\, unique experiences\, and how they got their start in the world of entrepreneurship. Engage with the entrepreneurs and join the conversation during the audience Q&amp\;A. This event includes time for networking and lunch. Feel free to bring your own lunch or purchase a lunch ticket (additional $10) for catered lunch from Dilly Deli. You can purchase lunch at the door. Panelists include: Charley Voorhis - Voortex Productions Brittany &amp\; Matthew Tait - Osteostrong And more! Event Sponsors: Harvest Valley Pest Control
LOCATION:Confluence Technology Center 285 Technology Center Way Wenatchee\, WA 98801
UID:e.289.7165
SEQUENCE:3
DTSTAMP:20260425T232748Z
URL:https://business.wenatchee.org/events/details/entrepreneurial-panel-business-owners-35-and-under-7165
END:VEVENT

END:VCALENDAR
