BEGIN:VCALENDAR
VERSION:2.0
PRODID:-//ChamberMaster//Event Calendar 2.0//EN
METHOD:PUBLISH
X-PUBLISHED-TTL:P3D
REFRESH-INTERVAL:P3D
CALSCALE:GREGORIAN
BEGIN:VEVENT
DTSTART:20200308T010000Z
DTEND:20200308T070000Z
X-MICROSOFT-CDO-ALLDAYEVENT:FALSE
SUMMARY:Enchanted Evening Roaring 20s
DESCRIPTION:Join SAGE (Safety\, Advocacy\, Growth\, and Empowerment) for it's 8th Annual Enchanted Evening Gala.  Dress in this years (optional) Roaring 20's theme and feel that speakeasy vibe as we enjoy a fabulous evening.\nThe evening will include dinner\, drinks\, dessert dash\, community awards\, live and silent auction and new this year - Dancing.  All proceeds go to aid victims of crime healing journey and keeping SAGE's services free and confidential for all.
X-ALT-DESC;FMTTYPE=text/html:Join SAGE (Safety\, Advocacy\, Growth\, and Empowerment) for it's 8th Annual Enchanted Evening Gala.  Dress in this years (optional) Roaring 20's theme and feel that speakeasy vibe as we enjoy a fabulous evening.\nThe evening will include dinner\, drinks\, dessert dash\, community awards\, live and silent auction and new this year - Dancing.  All proceeds go to aid victims of crime healing journey and keeping SAGE's services free and confidential for all. 
LOCATION:Wenatchee Convention Center 121 N Wenatchee Ave Wenatchee\, WA 98801
UID:e.289.7380
SEQUENCE:3
DTSTAMP:20260425T033201Z
URL:https://business.wenatchee.org/events/details/enchanted-evening-roaring-20s-7380
END:VEVENT

END:VCALENDAR
