BEGIN:VCALENDAR
VERSION:2.0
PRODID:-//ChamberMaster//Event Calendar 2.0//EN
METHOD:PUBLISH
X-PUBLISHED-TTL:P3D
REFRESH-INTERVAL:P3D
CALSCALE:GREGORIAN
BEGIN:VEVENT
DTSTART:20220327T003000Z
DTEND:20220327T050000Z
X-MICROSOFT-CDO-ALLDAYEVENT:FALSE
SUMMARY:Enchanted Evening - Back to the Future
DESCRIPTION:Join SAGE for their 9th annual Enchanted Evening Gala and fundraiser. We will be having a silent and live auction with raffle games throughout the night. Dinner is included in the ticket price with the bonus of two drink tickets (wine/beer). Tickets will go on sale on 11/26/2021. Doors will open at 5:00 with the first silent auction being closed at 6:10 p.m. and dinner being served about 6:30 p.m.
X-ALT-DESC;FMTTYPE=text/html:Join SAGE for their 9th annual Enchanted Evening Gala and fundraiser. We will be having a silent and live auction with raffle games throughout the night. Dinner is included in the ticket price with the bonus of two drink tickets (wine/beer). Tickets will go on sale on 11/26/2021. Doors will open at 5:00 with the first silent auction being closed at 6:10 p.m. and dinner being served about 6:30 p.m.
LOCATION:Wenatchee Convention Center
UID:e.289.8004
SEQUENCE:3
DTSTAMP:20260424T234833Z
URL:https://business.wenatchee.org/events/details/enchanted-evening-back-to-the-future-8004
END:VEVENT

END:VCALENDAR
