BEGIN:VCALENDAR
VERSION:2.0
PRODID:-//ChamberMaster//Event Calendar 2.0//EN
METHOD:PUBLISH
X-PUBLISHED-TTL:P3D
REFRESH-INTERVAL:P3D
CALSCALE:GREGORIAN
BEGIN:VEVENT
DTSTART:20210317T190000Z
DTEND:20210317T200000Z
X-MICROSOFT-CDO-ALLDAYEVENT:FALSE
SUMMARY:Eliminate the Overwhelm of Social Media Marketing
DESCRIPTION:The purpose of social media marketing is to deliver relevant\, educational\, and inspirational content to your desired audience on a consistent schedule. We can all use help with this no matter what level we are in with our social media marketing.  \n\n \n\nKelly Smith will teach us how to use social media marketing to elevate our brands and build an engaged audience while eliminating the frustration of not knowing when to post\, what to post\, or where to post. She'll clear up the four biggest social media marketing misconceptions so you can #postwithpurpose and you'll leave with 30 days of social media post ideas to breathe new life into a stale social media account.\n\n\n\nThis event is FREE\, please register to receive the Zoom link.
X-ALT-DESC;FMTTYPE=text/html:<span style="font-size:14px\;"><span style="font-family:arial\;">The purpose of social media marketing is to deliver relevant\, educational\, and inspirational content to your desired audience on a consistent schedule. We can all use help with this no matter what level we are in with our social media marketing.&nbsp\;&nbsp\;<br />\n&nbsp\;<br />\nKelly Smith will teach us how to use social media marketing to elevate our brands and build an engaged audience while eliminating the frustration of not knowing when to post\, what to post\, or where to post. She&rsquo\;ll clear up the four biggest social media marketing misconceptions so you can #postwithpurpose and you&rsquo\;ll leave with 30 days of social media post ideas to breathe new life into a stale social media account.</span></span><br />\n<br />\nThis event is FREE\, please register to receive the Zoom link.
LOCATION:Zoom (virtual)
UID:e.289.7807
SEQUENCE:3
DTSTAMP:20260422T202548Z
URL:https://business.wenatchee.org/events/details/eliminate-the-overwhelm-of-social-media-marketing-7807
END:VEVENT

END:VCALENDAR
