BEGIN:VCALENDAR
VERSION:2.0
PRODID:-//ChamberMaster//Event Calendar 2.0//EN
METHOD:PUBLISH
X-PUBLISHED-TTL:P3D
REFRESH-INTERVAL:P3D
CALSCALE:GREGORIAN
BEGIN:VEVENT
DTSTART:20191107T020000Z
DTEND:20191107T030000Z
X-MICROSOFT-CDO-ALLDAYEVENT:FALSE
SUMMARY:earn about lamprey at WRI’s Science on Tap! 509 Bierwerks
DESCRIPTION:Wenatchee River Institute hosts Science on Tap! Lamprey on Wed.\, Nov. 6\, 6-7pm\, at 509 Bierwerks\, 200 S. Columbia St. in Wenatchee. Pacific Lamprey are delightfully bizarre eel-like fish. Native to the mid and lower Columbia River\, this ancient species is among the most primitive of all vertebrates\, dating back 450 million years! Learn more about the amazing lamprey and their decline in population from Mid-Columbia Fish and Wildlife Conservation Office fish biologists\, Ann Grote and Barbara Kelly Ringel. During the event\, exciting items will be raffled  only $1 per ticket  to raise money for Wenatchee River Institute youth and adult programs connecting people\, communities and the natural world. Come out to 509 Bierwerks on Nov. 6th and get your science on!
X-ALT-DESC;FMTTYPE=text/html:Wenatchee River Institute hosts Science on Tap! Lamprey on Wed.\, Nov. 6\, 6-7pm\, at 509 Bierwerks\, 200 S. Columbia St. in Wenatchee. Pacific Lamprey are delightfully bizarre eel-like fish. Native to the mid and lower Columbia River\, this ancient species is among the most primitive of all vertebrates\, dating back 450 million years! Learn more about the amazing lamprey and their decline in population from Mid-Columbia Fish and Wildlife Conservation Office fish biologists\, Ann Grote and Barbara Kelly Ringel. During the event\, exciting items will be raffled &ndash\;only $1 per ticket&ndash\; to raise money for Wenatchee River Institute youth and adult programs connecting people\, communities and the natural world. Come out to 509 Bierwerks on Nov. 6th and get your science on!
LOCATION:509 Bierwerks\, 200 S. Columbia St. in Wenatchee.
UID:e.289.7518
SEQUENCE:3
DTSTAMP:20260425T122012Z
URL:https://business.wenatchee.org/events/details/earn-about-lamprey-at-wri-s-science-on-tap-509-bierwerks-7518
END:VEVENT

END:VCALENDAR
