BEGIN:VCALENDAR
VERSION:2.0
PRODID:-//ChamberMaster//Event Calendar 2.0//EN
METHOD:PUBLISH
X-PUBLISHED-TTL:P3D
REFRESH-INTERVAL:P3D
CALSCALE:GREGORIAN
BEGIN:VEVENT
DTSTART:20211030T200000Z
DTEND:20211030T220000Z
X-MICROSOFT-CDO-ALLDAYEVENT:FALSE
SUMMARY:Día de los Muertos - Day of the Dead
DESCRIPTION:Celebrate Dias de Los Muertos with your family and enjoy making your own Sugar Skull with mixed media\,  including paint\, chalk\, and paper cutouts. One ticket per artist\, please. This event is priced to allow for you and/or your child to each create your own work of art.\n\nBeginners are always welcome!
X-ALT-DESC;FMTTYPE=text/html:<p align="center" style="margin:0in\;text-align:center"><span style="font-family:arial\;"><span style="font-size:14px\;"><span style="color:#000000\;">Celebrate Dias de Los Muertos with your family and enjoy making your own Sugar Skull with mixed media\,&nbsp\; including paint\, chalk\, and paper cutouts. One ticket per artist\, please. This event is priced to allow for you and/or your child to each create your own work of art.</span></span></span><span style="font-size: 12pt\; font-family: Helvetica\, sans-serif\;"><o:p></o:p></span></p>\n\n<p align="center" style="margin:0in\;text-align:center\;box-sizing:border-box\;\nline-height:inherit"><span style="font-family:arial\;"><span style="font-size:14px\;"><span style="color:#000000\;">Beginners are always welcome!</span></span></span><span style="font-size: 12pt\; font-family: Helvetica\, sans-serif\;"><o:p></o:p></span></p>\n
LOCATION:Class with a Glass 134 N Mission St\, Wenatchee\, WA 98801
UID:e.289.7901
SEQUENCE:3
DTSTAMP:20260424T152718Z
URL:https://business.wenatchee.org/events/details/d&#237;a-de-los-muertos-day-of-the-dead-7901
END:VEVENT

END:VCALENDAR
