BEGIN:VCALENDAR
VERSION:2.0
PRODID:-//ChamberMaster//Event Calendar 2.0//EN
METHOD:PUBLISH
X-PUBLISHED-TTL:P3D
REFRESH-INTERVAL:P3D
CALSCALE:GREGORIAN
BEGIN:VEVENT
DTSTART:20190619T233000Z
DTEND:20190620T013000Z
X-MICROSOFT-CDO-ALLDAYEVENT:FALSE
SUMMARY:Draggoo Financial Ribbon Cutting
DESCRIPTION:Please join us at Draggoo Financial Group for an open house\, building tour\, and ribbon cutting event on Wednesday\, June 19th.\n\nAppetizers and Beverages will be provided.\n\nPlease RSVP by calling 509-888-4345 or by emailing tsandhop0a@draggoofinancial.com
X-ALT-DESC;FMTTYPE=text/html:Please join us at Draggoo Financial Group for an open house\, building tour\, and ribbon cutting event on Wednesday\, June 19th.<br />\nAppetizers and Beverages will be provided.<br />\nPlease RSVP by calling 509-888-4345 or by emailing tsandhop0a@draggoofinancial.com
LOCATION:1301 Walla Walla Ave Suite A\, Wenatchee\, WA 98801
UID:e.289.7306
SEQUENCE:3
DTSTAMP:20260425T182010Z
URL:https://business.wenatchee.org/events/details/draggoo-financial-ribbon-cutting-7306
END:VEVENT

END:VCALENDAR
