BEGIN:VCALENDAR
VERSION:2.0
PRODID:-//ChamberMaster//Event Calendar 2.0//EN
METHOD:PUBLISH
X-PUBLISHED-TTL:P3D
REFRESH-INTERVAL:P3D
CALSCALE:GREGORIAN
BEGIN:VEVENT
DTSTART:20100508T190000Z
DTEND:20100509T000000Z
X-MICROSOFT-CDO-ALLDAYEVENT:FALSE
SUMMARY:Downtown Wenatchee Wine Walk
DESCRIPTION:Downtown Wenatchee Wine Walk\n\nHooray!  Hooray!  It's the 8th of May!  Shop\, sip\, and celebrate Mother's Day a day early in downtown Wenatchee.  Noon to 5 p.m.\, $20 per person for 8 tastes of wine from 7 local wineries plus a souvenir glass.  Check in at Pak-it-Rite\, 126  N. Wenatchee Ave. then visit downtown merchants to sample wines.  A wonderful way to enjoy a Springtime Saturday!
X-ALT-DESC;FMTTYPE=text/html:Downtown Wenatchee Wine Walk\n<br>Hooray!  Hooray!  It's the 8th of May!  Shop\, sip\, and celebrate Mother's Day a day early in downtown Wenatchee.  Noon to 5 p.m.\, $20 per person for 8 tastes of wine from 7 local wineries plus a souvenir glass.  Check in at Pak-it-Rite\, 126  N. Wenatchee Ave. then visit downtown merchants to sample wines.  A wonderful way to enjoy a Springtime Saturday!   
LOCATION:Pak-it-Rite\, 126 N. Wenatchee Ave. as well as additional downtown merchants
UID:e.289.594
SEQUENCE:3
DTSTAMP:20260423T104720Z
URL:https://business.wenatchee.org/events/details/downtown-wenatchee-wine-walk-05-08-2010-594
END:VEVENT

END:VCALENDAR
