BEGIN:VCALENDAR
VERSION:2.0
PRODID:-//ChamberMaster//Event Calendar 2.0//EN
METHOD:PUBLISH
X-PUBLISHED-TTL:P3D
REFRESH-INTERVAL:P3D
CALSCALE:GREGORIAN
BEGIN:VEVENT
DTSTART:20201113T190000Z
DTEND:20201113T200000Z
X-MICROSOFT-CDO-ALLDAYEVENT:FALSE
SUMMARY:Dialogues: Voices From Performance - A Speaker Series
DESCRIPTION:Dr. Lisa B Thompson (@drlisabthompson) will be speaking about staging black feminism in theatre. She will also be doing a reading from one of her plays and talking about her overall work in this field.
X-ALT-DESC;FMTTYPE=text/html:Dr. Lisa B Thompson (@drlisabthompson) will be speaking about staging black feminism in theatre. She will also be doing a reading from one of her plays and talking about her overall work in this field.
LOCATION:Streaming Online
UID:e.289.7778
SEQUENCE:3
DTSTAMP:20260424T140559Z
URL:https://business.wenatchee.org/events/details/dialogues-voices-from-performance-a-speaker-series-7778
END:VEVENT

END:VCALENDAR
