BEGIN:VCALENDAR
VERSION:2.0
PRODID:-//ChamberMaster//Event Calendar 2.0//EN
METHOD:PUBLISH
X-PUBLISHED-TTL:P3D
REFRESH-INTERVAL:P3D
CALSCALE:GREGORIAN
BEGIN:VEVENT
DTSTART:20190213T010000Z
DTEND:20190213T020000Z
X-MICROSOFT-CDO-ALLDAYEVENT:FALSE
SUMMARY:CRI Open House
DESCRIPTION:If you are interested in becoming a Massage Therapist\, come by and visit our school. You can see our facility\, meet the owner/instructor and ask any questions you may have. Our small\, individualized\, elite program limits enrollment to 8 students per class and we are now accepting applications for the March start date. Come by and see us!
X-ALT-DESC;FMTTYPE=text/html:If you are interested in becoming a Massage Therapist\, come by and visit our school. You can see our facility\, meet the owner/instructor and ask any questions you may have. Our small\, individualized\, elite program limits enrollment to 8 students per class and we are now accepting applications for the March start date. Come by and see us!
LOCATION:Columbia River Institute of Massage Therapy 230 N Mission St Wenatchee\, WA 98801
UID:e.289.7031
SEQUENCE:3
DTSTAMP:20260426T025416Z
URL:https://business.wenatchee.org/events/details/cri-open-house-02-12-2019-7031
END:VEVENT

END:VCALENDAR
