BEGIN:VCALENDAR
VERSION:2.0
PRODID:-//ChamberMaster//Event Calendar 2.0//EN
METHOD:PUBLISH
X-PUBLISHED-TTL:P3D
REFRESH-INTERVAL:P3D
CALSCALE:GREGORIAN
BEGIN:VEVENT
DTSTART:20191004T160000Z
DTEND:20191004T230000Z
X-MICROSOFT-CDO-ALLDAYEVENT:FALSE
SUMMARY:Creating Healthy\, Wildfire-Safe and Wildfire-Friendly Forests
DESCRIPTION:This event offers the opportunity to:\n\nLearn to identify and manage common conditions\n\nLearn how to examine trees\n\nGet ideas for improving and protecting wildlife habitat in your woods.\n\nAcquire hands-on experience measuring trees.\n\nLearn about programs that will help you improve forest health\n\nMeet foresters\, contractors and family forest owners!
X-ALT-DESC;FMTTYPE=text/html:This event offers the opportunity to:<br />\nLearn to identify and manage common conditions<br />\nLearn how to examine trees<br />\nGet ideas for improving and protecting wildlife habitat in your woods.<br />\nAcquire hands-on experience measuring trees.<br />\nLearn about programs that will help you improve forest health<br />\nMeet foresters\, contractors and family forest owners!&nbsp\;
LOCATION:Chelan County Fire District #3 228 Chumstick Hwy. Leavenworth\, WA 98826
UID:e.289.7423
SEQUENCE:3
DTSTAMP:20260425T120321Z
URL:https://business.wenatchee.org/events/details/creating-healthy-wildfire-safe-and-wildfire-friendly-forests-7423
END:VEVENT

END:VCALENDAR
