BEGIN:VCALENDAR
VERSION:2.0
PRODID:-//ChamberMaster//Event Calendar 2.0//EN
METHOD:PUBLISH
X-PUBLISHED-TTL:P3D
REFRESH-INTERVAL:P3D
CALSCALE:GREGORIAN
BEGIN:VEVENT
DTSTART:20211117T160000Z
DTEND:20211117T180000Z
X-MICROSOFT-CDO-ALLDAYEVENT:FALSE
SUMMARY:Cornerstone Home Lending Pumpkin Pancake Feed
DESCRIPTION:Please join us for the Cornerstone 5th annual Pumpkin Pancake Feed on Wednesday November 17th from 8:00am-10:00am. This year we are supporting the Children's Home Society of Wenatchee Valley\, please bring a cash or a gift card to your favorite gas station\, grocery or retail store to help local foster youth.
X-ALT-DESC;FMTTYPE=text/html:Please join us for the Cornerstone 5th annual Pumpkin Pancake Feed on Wednesday November 17th from 8:00am-10:00am. This year we are supporting the Children&rsquo\;s Home Society of Wenatchee Valley\, please bring a cash or a gift card to your favorite gas station\, grocery or retail store to help local foster youth.
LOCATION:1301 Walla Walla Ave Suite C\, Wenatchee\, WA 98801
UID:e.289.7906
SEQUENCE:3
DTSTAMP:20260424T165832Z
URL:https://business.wenatchee.org/events/details/cornerstone-home-lending-pumpkin-pancake-feed-7906
END:VEVENT

END:VCALENDAR
