BEGIN:VCALENDAR
VERSION:2.0
PRODID:-//ChamberMaster//Event Calendar 2.0//EN
METHOD:PUBLISH
X-PUBLISHED-TTL:P3D
REFRESH-INTERVAL:P3D
CALSCALE:GREGORIAN
BEGIN:VEVENT
DTSTART:20260515T010000Z
DTEND:20260515T023000Z
X-MICROSOFT-CDO-ALLDAYEVENT:FALSE
SUMMARY:CONEXIÓN: Antojitos Los Primos
DESCRIPTION:Join us for this month's CONEXI N at Antojitos Los Primos. Connect with local business owners\, grow your network\, and get a taste of one of our Valley's favorite spots for snacks and treats.\n \n\nAcomp  enos para CONEXI N en Antojitos Los Primos. Conecte con propietarios de negocios \, ampl e su red de contactos y descubra uno de los lugares favoritos del Valle para disfrutar de ricos antojitos.
X-ALT-DESC;FMTTYPE=text/html:Join us for this month&rsquo\;s CONEXI&Oacute\;N at Antojitos Los Primos. Connect with local business owners\, grow your network\, and get a taste of one of our Valley&rsquo\;s favorite spots for snacks and treats.\n<div>&nbsp\;</div>\n\n<div>Acomp&aacute\;&ntilde\;enos para CONEXI&Oacute\;N en Antojitos Los Primos. Conecte con propietarios de negocios \, ampl&iacute\;e su red de contactos y descubra uno de los lugares favoritos del Valle para disfrutar de ricos antojitos.&nbsp\;</div>\n
LOCATION:806 Valley Parkway Mall\, East Wenatchee\, WA 98802
UID:e.289.9450
SEQUENCE:3
DTSTAMP:20260421T213206Z
URL:https://business.wenatchee.org/events/details/conexi&#243;n-antojitos-los-primos-9450
END:VEVENT

END:VCALENDAR
