BEGIN:VCALENDAR
VERSION:2.0
PRODID:-//ChamberMaster//Event Calendar 2.0//EN
METHOD:PUBLISH
X-PUBLISHED-TTL:P3D
REFRESH-INTERVAL:P3D
CALSCALE:GREGORIAN
BEGIN:VEVENT
DTSTART:20200325T163000Z
DTEND:20200325T183000Z
X-MICROSOFT-CDO-ALLDAYEVENT:FALSE
SUMMARY:Compassionate Communication
DESCRIPTION:A class presented by Wenatchee Valley Dispute Resolution Center (WVDRC) Whether it is in the workplace or at home\, communication with colleagues\, friends\, or loved ones sometimes provokes strong emotions and erroneous perceptions. Learning how to be objective and empathic when approaching conversations takes practice and understanding of emotional triggers. Based on the components of the Nonviolent Communication (NVC) model developed by Dr. Marshall Rosenberg\, this class offers insight into understanding needs and feelings and growing our emotion vocabulary. Participants will have opportunities to practice communication skills and empathy.
X-ALT-DESC;FMTTYPE=text/html:A class presented by Wenatchee Valley Dispute Resolution Center (WVDRC) Whether it is in the workplace or at home\, communication with colleagues\, friends\, or loved ones sometimes provokes strong emotions and erroneous perceptions. Learning how to be objective and empathic when approaching conversations takes practice and understanding of emotional triggers. Based on the components of the Nonviolent Communication (NVC) model developed by Dr. Marshall Rosenberg\, this class offers insight into understanding needs and feelings and growing our emotion vocabulary. Participants will have opportunities to practice communication skills and empathy.
LOCATION:Wenatchee Valley YMCA 217 Orondo Avenue Wenatchee\, WA 98801
UID:e.289.7702
SEQUENCE:3
DTSTAMP:20260425T032928Z
URL:https://business.wenatchee.org/events/details/compassionate-communication-7702
END:VEVENT

END:VCALENDAR
