BEGIN:VCALENDAR
VERSION:2.0
PRODID:-//ChamberMaster//Event Calendar 2.0//EN
METHOD:PUBLISH
X-PUBLISHED-TTL:P3D
REFRESH-INTERVAL:P3D
CALSCALE:GREGORIAN
BEGIN:VEVENT
DTSTART:20190426T170000Z
DTEND:20190426T210000Z
X-MICROSOFT-CDO-ALLDAYEVENT:FALSE
SUMMARY:Community Shred Day - Solomon Financial
DESCRIPTION:Free onsite destruction of your personal documents. Protect your privacy\, Reduce\, Reuse and Recycle. OK TO BRING: Tax documents\, Medical Records\, Letters\, Bank Statements\, Brochures\n\nCANNOT TAKE: 3 ring binders\, magazines\, jumbo paper clips\, limit 2 banker boxes per person.
X-ALT-DESC;FMTTYPE=text/html:Free onsite destruction of your personal documents. Protect your privacy\, Reduce\, Reuse and Recycle. OK TO BRING: Tax documents\, Medical Records\, Letters\, Bank Statements\, Brochures<br />\nCANNOT TAKE: 3 ring binders\, magazines\, jumbo paper clips\, limit 2 banker boxes per person.&nbsp\;<br />\n&nbsp\;
LOCATION:123 Ohme Garden Road\, Wenatchee\, WA Ohme Garden Buisness Park Parking Lot
UID:e.289.7285
SEQUENCE:3
DTSTAMP:20260425T214005Z
URL:https://business.wenatchee.org/events/details/community-shred-day-solomon-financial-7285
END:VEVENT

END:VCALENDAR
