BEGIN:VCALENDAR
VERSION:2.0
PRODID:-//ChamberMaster//Event Calendar 2.0//EN
METHOD:PUBLISH
X-PUBLISHED-TTL:P3D
REFRESH-INTERVAL:P3D
CALSCALE:GREGORIAN
BEGIN:VEVENT
DTSTART:20190316T003000Z
DTEND:20190316T013000Z
X-MICROSOFT-CDO-ALLDAYEVENT:FALSE
SUMMARY:Community Preview and Ribbon Cutting
DESCRIPTION:Join us in celebration of Wenatchee's newest comedy club brought to you by\, Rotten Apple. They come to us with a vast array of experience in event promotion and talent booking to bring you\, Comedy at the Grizzly! That's right\, The Grizzly Lounge is being transformed into every comedian lovers dream. \n\n\n\nThe community preview will take place at 5:30pm before their kick off show at 7:30. The public is invited to meet the Rotten Apple team\, the comedians and partake in appetizers and the Ribbon Cutting Ceremony! Want to stay for the show? Awesome! Seating is limited so visit the link below to get your tickets today.https://rottenapplepresents.com/events/tv-fameless-tour/?fbclid=IwAR2mpJnPMxxj7ooPSsxGoxaU6A0Qe0VAUx5Ke6OW_V0CJTVVfH--i0-sbJ0
X-ALT-DESC;FMTTYPE=text/html:<span style="color: rgb(29\, 33\, 41)\; font-family: Helvetica\, Arial\, sans-serif\; font-size: 14px\; white-space: pre-wrap\;">Join us in celebration of Wenatchee&#39\;s newest comedy club brought to you by\, Rotten Apple. They come to us with a vast array of experience in event promotion and talent booking to bring you\, Comedy at the Grizzly! That&#39\;s right\, The Grizzly Lounge is being transformed into every comedian lovers dream. </span><br style="color: rgb(29\, 33\, 41)\; font-family: Helvetica\, Arial\, sans-serif\; font-size: 14px\; white-space: pre-wrap\;" />\n<br style="color: rgb(29\, 33\, 41)\; font-family: Helvetica\, Arial\, sans-serif\; font-size: 14px\; white-space: pre-wrap\;" />\n<span style="color: rgb(29\, 33\, 41)\; font-family: Helvetica\, Arial\, sans-serif\; font-size: 14px\; white-space: pre-wrap\;">The community preview will take place at 5:30pm before their kick off show at 7:30. The public is invited to meet the Rotten Apple team\, the comedians and partake in appetizers and the Ribbon Cutting Ceremony! Want to stay for the show? Awesome! Seating is limited so visit the link below to get your tickets today.<a href="https://rottenapplepresents.com/events/tv-fameless-tour/?fbclid=IwAR2mpJnPMxxj7ooPSsxGoxaU6A0Qe0VAUx5Ke6OW_V0CJTVVfH--i0-sbJ0">https://rottenapplepresents.com/events/tv-fameless-tour/?fbclid=IwAR2mpJnPMxxj7ooPSsxGoxaU6A0Qe0VAUx5Ke6OW_V0CJTVVfH--i0-sbJ0</a></span>
LOCATION:The Grizzly Lounge at the Wenatchee Red Lion 1225 North Wenatchee Avenue
UID:e.289.7161
SEQUENCE:3
DTSTAMP:20260425T232726Z
URL:https://business.wenatchee.org/events/details/community-preview-and-ribbon-cutting-7161
END:VEVENT

END:VCALENDAR
