BEGIN:VCALENDAR
VERSION:2.0
PRODID:-//ChamberMaster//Event Calendar 2.0//EN
METHOD:PUBLISH
X-PUBLISHED-TTL:P3D
REFRESH-INTERVAL:P3D
CALSCALE:GREGORIAN
BEGIN:VEVENT
DTSTART:20210623T160000Z
DTEND:20210623T220000Z
X-MICROSOFT-CDO-ALLDAYEVENT:FALSE
SUMMARY:Community Job Fair
DESCRIPTION:The job fair is open to the community and job seekers of all ages are encouraged to apply. NCW employers from a wide variety of career fields will be available to discuss prospective job opening with individuals seeking full-time\, part-time\, or seasonal employment.\n\n\n\nCOME PREPARED TO APPLY. RESUMES ARE ENCOURAGED. \n\n\n\nHost a table at no cost and promote your current employment opportunities to hundreds of potential employees. Contact Chelsea Ewer\, Chamber Operations Director at chelsea@wenatchee.org or 662-2116 to reserve your space today!\n\n\n\nChelan Douglas Health District will be onsite to administer Johnson & Johnson COVID-19 vaccines to anyone 18 and older who wishes to receive it. There is no appointment needed and there will be no charge for getting a vaccine.
X-ALT-DESC;FMTTYPE=text/html:<br />\nThe job fair is open to the community and job seekers of all ages are encouraged to apply. NCW employers from a wide variety of career fields will be available to discuss prospective job opening with individuals seeking full-time\, part-time\, or seasonal employment.<br />\n<br />\nCOME PREPARED TO APPLY. RESUMES ARE ENCOURAGED.&nbsp\;<br />\n<br />\nHost a table at no cost and promote your current employment opportunities to hundreds of potential employees. Contact Chelsea Ewer\, Chamber Operations Director at chelsea@wenatchee.org or 662-2116 to reserve your space today!<br />\n<br />\nChelan Douglas Health District will be onsite to administer Johnson &amp\; Johnson COVID-19 vaccines to anyone 18 and older who wishes to receive it. There is no appointment needed and there will be no charge for getting a vaccine.
LOCATION:Wenatchee Convention Center 121 N. Wenatchee Ave. Wenatchee\, WA 98801
UID:e.289.7844
SEQUENCE:3
DTSTAMP:20260424T085251Z
URL:https://business.wenatchee.org/events/details/community-job-fair-7844
END:VEVENT

END:VCALENDAR
