BEGIN:VCALENDAR
VERSION:2.0
PRODID:-//ChamberMaster//Event Calendar 2.0//EN
METHOD:PUBLISH
X-PUBLISHED-TTL:P3D
REFRESH-INTERVAL:P3D
CALSCALE:GREGORIAN
BEGIN:VEVENT
DTSTART:20190426T023000Z
DTEND:20190426T050000Z
X-MICROSOFT-CDO-ALLDAYEVENT:FALSE
SUMMARY:Comedy for a Cause - YWCA
DESCRIPTION:YWCA NCW and 12 Tribes Resort and Casino is slated to host Comedy for a Cause\, Featuring Los Angeles comedian Ernie G\, previously seen on Comedy Central and HBO! The show will take place on April 25th\, at Wenatchee Museum and Cultural Center. Doors open at 7:30pm\, Show starts at 8:00pm. Tickets are $25 and can be purchased at www.ywcancw.eventbrite.com. Ticket includes first drink and open seating.
X-ALT-DESC;FMTTYPE=text/html:<span style="color:#2A2A2A\;"><span style="font-family:arial\,sans-serif\;">YWCA NCW&nbsp\;and 12 Tribes Resort and Casino is slated to host Comedy for a Cause\, Featuring Los Angeles comedian Ernie G\, previously seen on Comedy Central and HBO! The show will take place on April 25th\, at Wenatchee Museum and Cultural Center. Doors open at 7:30pm\, Show starts at 8:00pm. Tickets are $25 and can be purchased at <a href="http://www.ywcancw.eventbrite.com">www.ywcancw.eventbrite.com</a>.</span>&nbsp\;Ticket includes first drink and open seating.&nbsp\;</span> &nbsp\;
LOCATION:The Wenatchee Museum and Cultural Center
UID:e.289.7278
SEQUENCE:3
DTSTAMP:20260425T232548Z
URL:https://business.wenatchee.org/events/details/comedy-for-a-cause-ywca-7278
END:VEVENT

END:VCALENDAR
