BEGIN:VCALENDAR
VERSION:2.0
PRODID:-//ChamberMaster//Event Calendar 2.0//EN
METHOD:PUBLISH
X-PUBLISHED-TTL:P3D
REFRESH-INTERVAL:P3D
CALSCALE:GREGORIAN
BEGIN:VEVENT
DTSTART:20210429T150000Z
DTEND:20210429T160000Z
X-MICROSOFT-CDO-ALLDAYEVENT:FALSE
SUMMARY:Coffee & Commerce: State of Tourism
DESCRIPTION:Are you interested in the impact COVID-19 has had on the local tourism industry? Do you want to hear the latest information on developments statewide? Please join us to hear from David Blandford\, Executive Director for Washington Tourism Alliance and Jerri Barkley\, Destination Marketing Operations Director at the Wenatchee Valley Chamber of Commerce. They will share updated information on the state of the tourism and hospitality industry and what we can look forward to in the future.\n\n\n\nThank you to our sponsor\, American Family Insurance- Jake Davison\, Agent. \n\n\n\nThis event is free\, please be sure to register to get the Zoom Link at www.wenatchee.org/events/calendar
X-ALT-DESC;FMTTYPE=text/html:Are you interested in the impact COVID-19 has had on the local tourism industry? Do you want to hear the latest information on developments statewide? Please join us to hear from David Blandford\, Executive Director for Washington Tourism Alliance and Jerri Barkley\, Destination Marketing Operations Director at the Wenatchee Valley Chamber of Commerce. They will share updated information on the state of the tourism and hospitality industry and what we can look forward to in the future.<br />\n<br />\nThank you to our sponsor\, American Family Insurance- Jake Davison\, Agent.&nbsp\;<br />\n<br />\nThis event is free\, please be sure to register to get the Zoom Link at www.wenatchee.org/events/calendar
LOCATION:Zoom (register for link)
UID:e.289.7831
SEQUENCE:3
DTSTAMP:20260422T202033Z
URL:https://business.wenatchee.org/events/details/coffee-commerce-state-of-tourism-7831
END:VEVENT

END:VCALENDAR
