BEGIN:VCALENDAR
VERSION:2.0
PRODID:-//ChamberMaster//Event Calendar 2.0//EN
METHOD:PUBLISH
X-PUBLISHED-TTL:P3D
REFRESH-INTERVAL:P3D
CALSCALE:GREGORIAN
BEGIN:VEVENT
DTSTART:20220223T160000Z
DTEND:20220223T170000Z
X-MICROSOFT-CDO-ALLDAYEVENT:FALSE
SUMMARY:Coffee & Commerce - State of the Cities
DESCRIPTION:Grab a cup of coffee and join us virtually for a conversation with City of East Wenatchee Mayor Jerrilea Crawford and City of Wenatchee Mayor Frank Kuntz on the State of the Region from a Mayoral perspective.\n\n\n\nThis event is made possible by our program sponsor\, Jake Davison - American Family Insurance Agent.\n\n\n\nThis event is FREE\, please register to receive the Zoom link.
X-ALT-DESC;FMTTYPE=text/html:<br />\n<span style="font-size:14px\;"><span style="font-family:arial\;">Grab a cup of coffee and join us virtually for a conversation with City of East Wenatchee Mayor Jerrilea Crawford and City of Wenatchee Mayor Frank Kuntz on the State of the Region from a Mayoral perspective.<br />\n<br />\nThis event is made possible by our program sponsor\, Jake Davison - American Family Insurance Agent.<br />\n<br />\nThis event is FREE\, please register to receive the Zoom link.</span></span>
LOCATION:Online Event
UID:e.289.7943
SEQUENCE:3
DTSTAMP:20260424T215712Z
URL:https://business.wenatchee.org/events/details/coffee-commerce-state-of-the-cities-7943
END:VEVENT

END:VCALENDAR
