BEGIN:VCALENDAR
VERSION:2.0
PRODID:-//ChamberMaster//Event Calendar 2.0//EN
METHOD:PUBLISH
X-PUBLISHED-TTL:P3D
REFRESH-INTERVAL:P3D
CALSCALE:GREGORIAN
BEGIN:VEVENT
DTSTART:20200513T150000Z
DTEND:20200513T160000Z
X-MICROSOFT-CDO-ALLDAYEVENT:FALSE
SUMMARY:Coffee & Commerce: Preparing to Re-open
DESCRIPTION:How about a little conversation with your coffee? Grab your cup & join us on Zoom for a conversation with Renee Sunde of the Washington Retail Association (WRA) and Bruce Beckett of The Beckett Group. We will discuss the work that the WRA has done to get retailers ready to re open and the guidelines they have created. If you are interested on how your business can be more prepared this event is for you! Come be part of the conversation\; space is limited so reserve your spot today at wenatchee.org or info@wenatchee.org!
X-ALT-DESC;FMTTYPE=text/html:<p style="background:white"><span style="font-size:10.5pt\;\nfont-family:&quot\;Arial&quot\;\,sans-serif\;color:#3F3F3F">How about a little conversation with your coffee? Grab your cup &amp\; join us on Zoom for a conversation with Renee Sunde of the Washington Retail Association (WRA) and Bruce Beckett of The Beckett Group. We will discuss the work that the WRA has done to get retailers ready to re open and the guidelines they have created. If you are interested on how your business can be more prepared this event is for you! Come be part of the conversation\; space is limited so reserve your spot today at </span><span style="font-size:9.0pt\;font-family:&quot\;Arial&quot\;\,sans-serif\;color:#403F42"><a href="http://www.wenatchee.org/" target="_blank"><span style="font-size:10.5pt\;\ncolor:#138AD3">wenatchee.org</span></a></span><span style="font-size:10.5pt\;\nfont-family:&quot\;Arial&quot\;\,sans-serif\;color:#3F3F3F"> or </span><span style="font-size:9.0pt\;font-family:&quot\;Arial&quot\;\,sans-serif\;color:#403F42"><a target="_blank"><span style="font-size:10.5pt\;\ncolor:#138AD3">info@wenatchee.org</span></a></span><span style="font-size:10.5pt\;\nfont-family:&quot\;Arial&quot\;\,sans-serif\;color:#3F3F3F">!</span></p>\n
LOCATION:Zoom meeting
UID:e.289.7713
SEQUENCE:3
DTSTAMP:20260425T014644Z
URL:https://business.wenatchee.org/events/details/coffee-commerce-preparing-to-re-open-7713
END:VEVENT

END:VCALENDAR
