BEGIN:VCALENDAR
VERSION:2.0
PRODID:-//ChamberMaster//Event Calendar 2.0//EN
METHOD:PUBLISH
X-PUBLISHED-TTL:P3D
REFRESH-INTERVAL:P3D
CALSCALE:GREGORIAN
BEGIN:VEVENT
DTSTART:20201216T160000Z
DTEND:20201216T170000Z
X-MICROSOFT-CDO-ALLDAYEVENT:FALSE
SUMMARY:Coffee & Commerce: Legislative Preview
DESCRIPTION:Grab your cup of coffee and join us virtually as we discuss what's in store when the Legislature gavels into session in January. Our 12th District Legislators will be joining us to share their insights on important topics such as:\n\n               * COVID-19\n\n               * Transportation\n\n               * Unemployment Insurance\n\n               * Tourism\n\n               * Budget discussions  \n\nThank you to our sponsor Jake Davison Agency\, American Family Insurance!\n\n \n\nThis event is FREE\, registration is required to receive the Zoom link.
X-ALT-DESC;FMTTYPE=text/html:<div style="color: rgb(64\, 63\, 66)\; font-family: Roboto\, sans-serif\; font-size: 14px\; white-space: pre-wrap\; text-align: justify\;">Grab your cup of coffee and join us virtually as we discuss what&#39\;s in store when the Legislature gavels into session in January.&nbsp\;Our 12th District Legislators will be joining us to share their insights on important topics such as:</div>\n\n<div style="color: rgb(64\, 63\, 66)\; font-family: Roboto\, sans-serif\; font-size: 14px\; white-space: pre-wrap\; text-align: justify\;">&nbsp\;&nbsp\;&nbsp\;&nbsp\;&nbsp\;&nbsp\;&nbsp\;&nbsp\;&nbsp\;&nbsp\;&nbsp\;&nbsp\;&nbsp\;&nbsp\;&nbsp\;* COVID-19</div>\n\n<div style="color: rgb(64\, 63\, 66)\; font-family: Roboto\, sans-serif\; font-size: 14px\; white-space: pre-wrap\; text-align: justify\;">&nbsp\;&nbsp\;&nbsp\;&nbsp\;&nbsp\;&nbsp\;&nbsp\;&nbsp\;&nbsp\;&nbsp\;&nbsp\;&nbsp\;&nbsp\;&nbsp\;&nbsp\;* Transportation</div>\n\n<div style="color: rgb(64\, 63\, 66)\; font-family: Roboto\, sans-serif\; font-size: 14px\; white-space: pre-wrap\; text-align: justify\;">&nbsp\;&nbsp\;&nbsp\;&nbsp\;&nbsp\;&nbsp\;&nbsp\;&nbsp\;&nbsp\;&nbsp\;&nbsp\;&nbsp\;&nbsp\;&nbsp\;&nbsp\;* Unemployment Insurance</div>\n\n<div style="color: rgb(64\, 63\, 66)\; font-family: Roboto\, sans-serif\; font-size: 14px\; white-space: pre-wrap\; text-align: justify\;">&nbsp\;&nbsp\;&nbsp\;&nbsp\;&nbsp\;&nbsp\;&nbsp\;&nbsp\;&nbsp\;&nbsp\;&nbsp\;&nbsp\;&nbsp\;&nbsp\;&nbsp\;* Tourism</div>\n\n<div style="color: rgb(64\, 63\, 66)\; font-family: Roboto\, sans-serif\; font-size: 14px\; white-space: pre-wrap\; text-align: justify\;">&nbsp\;&nbsp\;&nbsp\;&nbsp\;&nbsp\;&nbsp\;&nbsp\;&nbsp\;&nbsp\;&nbsp\;&nbsp\;&nbsp\;&nbsp\;&nbsp\;&nbsp\;* Budget discussions&nbsp\;&nbsp\;</div>\n\n<div style="color: rgb(64\, 63\, 66)\; font-family: Roboto\, sans-serif\; font-size: 14px\; white-space: pre-wrap\; text-align: justify\;">Thank you to our sponsor Jake Davison Agency\, American Family Insurance!</div>\n\n<div style="color: rgb(64\, 63\, 66)\; font-family: Roboto\, sans-serif\; font-size: 14px\; white-space: pre-wrap\; text-align: justify\;">&nbsp\;</div>\n\n<div style="color: rgb(64\, 63\, 66)\; font-family: Roboto\, sans-serif\; font-size: 14px\; white-space: pre-wrap\; text-align: justify\;">This event is FREE\, registration is required to receive the Zoom link.</div>\n
LOCATION:Zoom
UID:e.289.7783
SEQUENCE:3
DTSTAMP:20260424T122841Z
URL:https://business.wenatchee.org/events/details/coffee-commerce-legislative-preview-7783
END:VEVENT

END:VCALENDAR
