BEGIN:VCALENDAR
VERSION:2.0
PRODID:-//ChamberMaster//Event Calendar 2.0//EN
METHOD:PUBLISH
X-PUBLISHED-TTL:P3D
REFRESH-INTERVAL:P3D
CALSCALE:GREGORIAN
BEGIN:VEVENT
DTSTART:20201008T150000Z
DTEND:20201008T160000Z
X-MICROSOFT-CDO-ALLDAYEVENT:FALSE
SUMMARY:Coffee & Commerce: Legislative Budget Writers
DESCRIPTION:The WVCC is proud to host Senator Christine Rolfes\,  Senate Ways and Means Committee Chair\; Senator John Braun\, Senate Ways and Means Committee Ranking Member\; Representative Steven Tharinger\, (invited) House Capital Budget Committee Chair\; and Representative Mike Steele\, House Capital Budget Committee Assistant Ranking Member for a virtual roundtable discussion. These budget writers will be sharing their expertise on the budget process and how this year's budget will be impacted by COVID-19. Ahead of the 2021 legislative session\, this will be an opportunity for Chamber Members and the community to learn about the budget writing process\, the challenges the Legislature will face due to the COVID-19 pandemic and how businesses could be impacted. We hope you can join us October 8th at 8am!\n\n\n\nRegister at www.wenatchee.org to get Zoom link. This is a free event for Chamber members\, $10 for non-members.
X-ALT-DESC;FMTTYPE=text/html:<span style="font-family:segoe ui\,sans-serif\;">The WVCC is proud to host Senator Christine Rolfes\,&nbsp\; Senate Ways and Means Committee Chair\; Senator John Braun\, Senate Ways and Means Committee Ranking Member\; Representative Steven Tharinger\, (invited) House Capital Budget Committee Chair\; and Representative Mike Steele\, House Capital Budget Committee Assistant Ranking Member for a virtual roundtable discussion. These budget writers will be sharing their expertise on the budget process and how this year&rsquo\;s budget will be impacted by COVID-19. Ahead of the 2021 legislative session\, this will be an opportunity for Chamber Members and the community to learn about the budget writing process\, the challenges the Legislature will face due to the COVID-19 pandemic and how businesses could be impacted. We hope you can join us October 8<sup>th</sup> at 8am!</span><br />\n<br />\n<span style="font-family:segoe ui\,sans-serif\;"><strong>Register at www.wenatchee.org to get Zoom link. This is a free event for Chamber members\, $10 for non-members.</strong></span>
LOCATION:Zoom
UID:e.289.7759
SEQUENCE:3
DTSTAMP:20260424T154423Z
URL:https://business.wenatchee.org/events/details/coffee-commerce-legislative-budget-writers-7759
END:VEVENT

END:VCALENDAR
