BEGIN:VCALENDAR
VERSION:2.0
PRODID:-//ChamberMaster//Event Calendar 2.0//EN
METHOD:PUBLISH
X-PUBLISHED-TTL:P3D
REFRESH-INTERVAL:P3D
CALSCALE:GREGORIAN
BEGIN:VEVENT
DTSTART:20200415T143000Z
DTEND:20200415T153000Z
X-MICROSOFT-CDO-ALLDAYEVENT:FALSE
SUMMARY:Coffee & Commerce - Housing - CANCELLED
DESCRIPTION:-CANCELLED UNTIL FURTHER NOTICE-\n\nThe first Coffee & Commerce event of 2020 gathered the mayors of Wenatchee and East Wenatchee. The second one will gather people to discuss the continuing housing shortage and ways to increase the number of affordable places to live in the Valley.\n\n\n\nStay tuned for the release of the presenters' names\, as well as a location. SPACE IS LIMITED. Please RSVP to rosa@wenatchee.org to save a seat!\n\n\n\n This event is made possible by our program sponsor\, Jake Davison - American Family Insurance Agent
X-ALT-DESC;FMTTYPE=text/html:<strong style="font-family: arial\, sans-serif\; font-size: 13.3333px\;"><span style="color: rgb(255\, 0\, 0)\;"><span style="font-size: 24px\;">-CANCELLED UNTIL FURTHER NOTICE-</span></span></strong><br />\n<span style="font-family:arial\;">The first Coffee &amp\; Commerce event of 2020 gathered the mayors of Wenatchee and East Wenatchee. The second one will gather people to discuss the continuing housing shortage and ways to increase the number of affordable places to live in the Valley.<br />\n<br />\nStay tuned for the release of the presenters&#39\; names\, as well as a location. SPACE IS LIMITED. Please RSVP to rosa@wenatchee.org to save a seat!</span><br />\n<br />\n<span style="color: rgb(29\, 33\, 41)\; font-family: Helvetica\, Arial\, sans-serif\; font-size: 14px\; white-space: pre-wrap\;">&#8203\;This event is made possible by our program sponsor\, </span><a href="https://www.facebook.com/JakeDavisonAgency/" style="color: rgb(56\, 88\, 152)\; cursor: pointer\; text-decoration-line: none\; font-family: Helvetica\, Arial\, sans-serif\; font-size: 14px\; white-space: pre-wrap\;" target="_blank">Jake Davison - American Family Insurance Agent</a>
LOCATION:Wenatchee Valley Chamber of Commerce 137 N. Wenatchee Ave. Ste. 101 Wenatchee\, WA 98801
UID:e.289.7699
SEQUENCE:3
DTSTAMP:20260425T033213Z
URL:https://business.wenatchee.org/events/details/coffee-commerce-housing-cancelled-7699
END:VEVENT

END:VCALENDAR
