BEGIN:VCALENDAR
VERSION:2.0
PRODID:-//ChamberMaster//Event Calendar 2.0//EN
METHOD:PUBLISH
X-PUBLISHED-TTL:P3D
REFRESH-INTERVAL:P3D
CALSCALE:GREGORIAN
BEGIN:VEVENT
DTSTART:20200722T150000Z
DTEND:20200722T160000Z
X-MICROSOFT-CDO-ALLDAYEVENT:FALSE
SUMMARY:Coffee & Commerce: Candidate Forum
DESCRIPTION:Join us for a virtual Primary Election candidate forum. We will be joined by candidates who have primary races ahead of our August 4th Primary election. Please register at www.wenatchee.org to get access to the forum.\n\n\n\n This event is made possible by our program sponsor\, Jake Davison - American Family Insurance Agent
X-ALT-DESC;FMTTYPE=text/html:<p>Join us for a virtual Primary Election candidate forum. We will be joined by candidates who have primary races ahead of our August 4<sup>th</sup> Primary election. Please register at <a href="http://www.wenatchee.org/">www.wenatchee.org</a> to get access to the forum.<br />\n<br />\n<span style="color: rgb(29\, 33\, 41)\; font-family: Helvetica\,Arial\,sans-serif\; font-size: 14px\; font-style: normal\; font-variant: normal\; font-weight: 400\; letter-spacing: normal\; orphans: 2\; text-align: left\; text-decoration: none\; text-indent: 0px\; text-transform: none\; -webkit-text-stroke-width: 0px\; white-space: pre-wrap\; word-spacing: 0px\;">&#8203\;This event is made possible by our program sponsor\, </span><a href="https://www.facebook.com/JakeDavisonAgency/" style="color: rgb(56\, 88\, 152)\; cursor: pointer\; font-family: Helvetica\,Arial\,sans-serif\; font-size: 14px\; font-style: normal\; font-variant: normal\; font-weight: 400\; letter-spacing: normal\; orphans: 2\; text-align: left\; text-decoration: underline\; text-indent: 0px\; text-transform: none\; -webkit-text-stroke-width: 0px\; white-space: pre-wrap\; word-spacing: 0px\;" target="_blank">Jake Davison - American Family Insurance Agent</a></p>\n
LOCATION:ZOOM
UID:e.289.7723
SEQUENCE:3
DTSTAMP:20260424T203751Z
URL:https://business.wenatchee.org/events/details/coffee-commerce-candidate-forum-7723
END:VEVENT

END:VCALENDAR
