BEGIN:VCALENDAR
VERSION:2.0
PRODID:-//ChamberMaster//Event Calendar 2.0//EN
METHOD:PUBLISH
X-PUBLISHED-TTL:P3D
REFRESH-INTERVAL:P3D
CALSCALE:GREGORIAN
BEGIN:VEVENT
DTSTART:20191010T210000Z
DTEND:20191010T230000Z
X-MICROSOFT-CDO-ALLDAYEVENT:FALSE
SUMMARY:CLWV Alumni Event - Waste Management
DESCRIPTION:Trash - everyone has garbage. But what happens to it after you set it out for Waste Management to pick it up at the curb? Sounds dirty and gross but garbage collection and disposal is an important service to our community. This Community Leadership Wenatchee Valley (CLWV) Alumni event will include an overview of Waste Management services as well as a bus tour of the landfill and recycling center. You might think dump\, but the landfill involves rigorous engineering with strict environmental protection systems. The landfill is not open to the public so this tour is a rare opportunity to learn more about this valuable service. Open to CLWV Alumni only - registration required.\n\n\n\n$20 Registration ($5 goes to CLWV scholarship fund)
X-ALT-DESC;FMTTYPE=text/html:<span style="color: rgb(64\, 63\, 66)\; font-family: Arial\, Verdana\, Helvetica\, sans-serif\; font-size: 12px\; white-space: pre-wrap\; font-weight: bold\;">Trash</span><span style="color: rgb(64\, 63\, 66)\; font-family: Arial\, Verdana\, Helvetica\, sans-serif\; font-size: 12px\; white-space: pre-wrap\;"> - everyone has garbage. But what happens to it after you set it out for Waste Management to pick it up at the curb? Sounds dirty and gross but garbage collection and disposal is an important service to our community. This Community Leadership Wenatchee Valley (CLWV) Alumni event will include an overview of Waste Management services as well as a bus tour of the landfill and recycling center. You might think dump\, but the landfill involves rigorous engineering with strict environmental protection systems. The landfill is not open to the public so this tour is a rare opportunity to learn more about this valuable service. <strong>Open to CLWV Alumni only - registration required.</strong><br />\n<br />\n$20 Registration ($5 goes to CLWV scholarship fund)</span>
LOCATION:Waste Management 711 N. Wenatchee Ave. (behind Joe's Log Cabin)
UID:e.289.7473
SEQUENCE:3
DTSTAMP:20260425T115105Z
URL:https://business.wenatchee.org/events/details/clwv-alumni-event-waste-management-7473
END:VEVENT

END:VCALENDAR
