BEGIN:VCALENDAR
VERSION:2.0
PRODID:-//ChamberMaster//Event Calendar 2.0//EN
METHOD:PUBLISH
X-PUBLISHED-TTL:P3D
REFRESH-INTERVAL:P3D
CALSCALE:GREGORIAN
BEGIN:VEVENT
DTSTART:20190817T150000Z
DTEND:20190817T190000Z
X-MICROSOFT-CDO-ALLDAYEVENT:FALSE
SUMMARY:Clothes for the Classroom
DESCRIPTION:Serve Wenatchee Valley is Hosting Clothes for the Classroom for the 17th consecutive year. We will give a new set of clothes to as many as 1000 children (K-8th grades) who live in the Wenatchee and Eastmont School Districts including NEW Jeans\, Shirts\, Shoes & Socks. There will also be haircuts\, crafts and soccer balls available.
X-ALT-DESC;FMTTYPE=text/html:Serve Wenatchee Valley is Hosting Clothes for the Classroom for the 17th consecutive year. We will give a new set of clothes to as many as 1000 children (K-8th grades) who live in the Wenatchee and Eastmont School Districts including NEW Jeans\, Shirts\, Shoes &amp\; Socks. There will also be haircuts\, crafts and soccer balls available. 
LOCATION:Saddlerock EPC 1400 S Miller St Wenatchee\, Wa
UID:e.289.7375
SEQUENCE:3
DTSTAMP:20260425T164958Z
URL:https://business.wenatchee.org/events/details/clothes-for-the-classroom-7375
END:VEVENT

END:VCALENDAR
