BEGIN:VCALENDAR
VERSION:2.0
PRODID:-//ChamberMaster//Event Calendar 2.0//EN
METHOD:PUBLISH
X-PUBLISHED-TTL:P3D
REFRESH-INTERVAL:P3D
CALSCALE:GREGORIAN
BEGIN:VEVENT
DTSTART:20210710T180000Z
DTEND:20210710T220000Z
X-MICROSOFT-CDO-ALLDAYEVENT:FALSE
SUMMARY:Class with a Glass Ribbon Cutting Ceremony
DESCRIPTION:Class with a Glass invites you to their Grand Opening at their new location\, 134 N Mission St.\, Wenatchee.\n\n\n\nEnjoy a relaxing and creative time while taking a tour of their new art studio and event space\, watch art demos by local artisans\, and sample complimentary snacks from their expanded menu. Class with a Glass offers art classes for all ages\, locally crafted wines\, brews\, and ciders and features local artists at their in-house gallery. \n\n\n\nCome see what's new at Class with a Glass!
X-ALT-DESC;FMTTYPE=text/html:<br />\n<span style="font-size:18px\;"><span style="font-family:arial\;">Class with a Glass invites you to their Grand Opening at their new location\, 134 N Mission St.\, Wenatchee.<br />\n<br />\nEnjoy a relaxing and creative time while taking a tour of their new art studio and event space\, watch art demos by local artisans\, and sample complimentary snacks from their expanded menu.&nbsp\;Class with a Glass offers art classes for all ages\, locally crafted wines\, brews\, and ciders and features local artists at their in-house gallery.&nbsp\;<br />\n<br />\nCome see what&#39\;s new at Class with a Glass!</span></span>
LOCATION:134 N Mission St. Wenatchee\, WA 98801
UID:e.289.7850
SEQUENCE:3
DTSTAMP:20260424T103633Z
URL:https://business.wenatchee.org/events/details/class-with-a-glass-ribbon-cutting-ceremony-7850
END:VEVENT

END:VCALENDAR
