BEGIN:VCALENDAR
VERSION:2.0
PRODID:-//ChamberMaster//Event Calendar 2.0//EN
METHOD:PUBLISH
X-PUBLISHED-TTL:P3D
REFRESH-INTERVAL:P3D
CALSCALE:GREGORIAN
BEGIN:VEVENT
DTSTART:20200722T190000Z
DTEND:20200722T200000Z
X-MICROSOFT-CDO-ALLDAYEVENT:FALSE
SUMMARY:Choose Hope over Fear Webinar
DESCRIPTION:AVHRA is pleased to partner with motivational speaker\, Matt Jones\, to help us build resilience during these times of uncertainty. More than ever in these uncertain times it is essential to develop\, enhance\, and maintain an attitude of hope versus fear. Motivational speaker\, Matt Jones\, knows what it is like to face massive fear. At the age of 25\, cancer spread to his brain. His doctor told him he had a less than ten % chance of living to 30. He recently turned 41. One of the reasons he is alive today is that he made the choice of hope over fear. The Apple Valley Human Resource Association (AVHRA) Board is pleased to partner with Matt Jones and host a webinar as Matt shares from his real-life experiences and evidence-based strategies from the field of Positive Psychology. Matt's presentation is based on his inspiring life experiences of overcoming cancer three times when doctors did not think he would live\, relearning how to walk\, completing eight marathons on eight continents. Attendees are sure to walk away with real life action steps that they can immediately use personally and professionally. Learn more about Matt and his journey at www.MatthewDJones.com.
X-ALT-DESC;FMTTYPE=text/html:AVHRA is pleased to partner with motivational speaker\, Matt Jones\, to help us build resilience during these times of uncertainty. More than ever in these uncertain times it is essential to develop\, enhance\, and maintain an attitude of hope versus fear. Motivational speaker\, Matt Jones\, knows what it is like to face massive fear. At the age of 25\, cancer spread to his brain. His doctor told him he had a less than ten % chance of living to 30. He recently turned 41. One of the reasons he is alive today is that he made the choice of hope over fear. The Apple Valley Human Resource Association (AVHRA) Board is pleased to partner with Matt Jones and host a webinar as Matt shares from his real-life experiences and evidence-based strategies from the field of Positive Psychology. Matt&#39\;s presentation is based on his inspiring life experiences of overcoming cancer three times when doctors did not think he would live\, relearning how to walk\, completing eight marathons on eight continents. Attendees are sure to walk away with real life action steps that they can immediately use personally and professionally. Learn more about Matt and his journey at www.MatthewDJones.com.
LOCATION:Online Webinar - link will be provided in registration confirmation email
UID:e.289.7730
SEQUENCE:3
DTSTAMP:20260424T204053Z
URL:https://business.wenatchee.org/events/details/choose-hope-over-fear-webinar-7730
END:VEVENT

END:VCALENDAR
