BEGIN:VCALENDAR
VERSION:2.0
PRODID:-//ChamberMaster//Event Calendar 2.0//EN
METHOD:PUBLISH
X-PUBLISHED-TTL:P3D
REFRESH-INTERVAL:P3D
CALSCALE:GREGORIAN
BEGIN:VEVENT
DTSTART:20190318T230000Z
DTEND:20190319T010000Z
X-MICROSOFT-CDO-ALLDAYEVENT:FALSE
SUMMARY:Chelan PUD Open House - Wenatchee
DESCRIPTION:Chelan PUD is holding a series of Open Houses in March to talk with the community about consolidating its service operations at one\, new facility in Olds Station. The PUD wants your comments. To learn more about the proposal and to provide your comments   and enter to win an iPad   visit www.chelanpud.org/ServiceCenter \n\nThe Wenatchee-area Open House will be on March 18 from 4   6 pm at the Wenatchee Valley Museum and Cultural Center\, 127 S. Mission in Wenatchee.\n\nChelan PUD is talking about consolidating its Wenatchee-area customer and utility operations at one location in Olds Station. There are several reasons why:\n\n	Customer service improvements\n	Employee productivity improvements\n	Safety improvements\n	Long-term financial savings
X-ALT-DESC;FMTTYPE=text/html:Chelan PUD is holding a series of Open Houses in March to talk with the community about consolidating its service operations at one\, new facility in Olds Station. The PUD wants your comments. To learn more about the proposal and to provide your comments &ndash\; and enter to win an iPad &ndash\; visit <a href="http://www.chelanpud.org/ServiceCenter">www.chelanpud.org/ServiceCenter</a>&nbsp\;<br />\nThe Wenatchee-area Open House will be on March 18 from 4 &ndash\; 6 pm at the Wenatchee Valley Museum and Cultural Center\, 127 S. Mission in Wenatchee.<br />\nChelan PUD is talking about consolidating its Wenatchee-area customer and utility operations at one location in Olds Station. There are several reasons why:\n<ul>\n	<li>Customer service improvements</li>\n	<li>Employee productivity improvements</li>\n	<li>Safety improvements</li>\n	<li>Long-term financial savings</li>\n</ul>\n
LOCATION:Wenatchee Valley Museum and Cultural Center\, 127 S. Mission\, Wenatchee
UID:e.289.7185
SEQUENCE:3
DTSTAMP:20260426T012200Z
URL:https://business.wenatchee.org/events/details/chelan-pud-open-house-wenatchee-7185
END:VEVENT

END:VCALENDAR
