BEGIN:VCALENDAR
VERSION:2.0
PRODID:-//ChamberMaster//Event Calendar 2.0//EN
METHOD:PUBLISH
X-PUBLISHED-TTL:P3D
REFRESH-INTERVAL:P3D
CALSCALE:GREGORIAN
BEGIN:VEVENT
DTSTART;VALUE=DATE:20190321
DTEND;VALUE=DATE:20190322
TRANSP:TRANSPARENT
X-MICROSOFT-CDO-ALLDAYEVENT:TRUE
SUMMARY:Chelan PUD Open House - Leavenworth
DESCRIPTION:Chelan PUD is talking about consolidating its Wenatchee-area customer and utility operations at one location in Olds Station. There are several reasons why:\n\n	Customer service improvements\n	Employee productivity improvements\n	Safety improvements\n	Long-term financial savings
X-ALT-DESC;FMTTYPE=text/html:Chelan PUD is talking about consolidating its Wenatchee-area customer and utility operations at one location in Olds Station. There are several reasons why:\n<ul>\n	<li>Customer service improvements</li>\n	<li>Employee productivity improvements</li>\n	<li>Safety improvements</li>\n	<li>Long-term financial savings</li>\n</ul>\n
LOCATION:Chelan County Fire 3 Station\, Leavenworth\, 228 Chumstick Hwy\, Leavenworth
UID:e.289.7187
SEQUENCE:3
DTSTAMP:20260426T012402Z
URL:https://business.wenatchee.org/events/details/chelan-pud-open-house-leavenworth-7187
END:VEVENT

END:VCALENDAR
