BEGIN:VCALENDAR
VERSION:2.0
PRODID:-//ChamberMaster//Event Calendar 2.0//EN
METHOD:PUBLISH
X-PUBLISHED-TTL:P3D
REFRESH-INTERVAL:P3D
CALSCALE:GREGORIAN
BEGIN:VEVENT
DTSTART:20190324T230000Z
DTEND:20190326T010000Z
X-MICROSOFT-CDO-ALLDAYEVENT:FALSE
SUMMARY:Chelan PUD Open House - Entiat Fire Hall
DESCRIPTION:Chelan PUD is holding a series of Open Houses in March to talk with the community about consolidating its service operations at one\, new facility in Olds Station. The PUD wants your comments. To learn more about the proposal and to provide your comments   and enter to win an iPad   visit www.chelanpud.org/ServiceCenter.  The Entiat-area Open House will be on March 25th from 4   6 pm at the Entiat Fire Hall\, 2200 Entiat Way\, Entiat\, WA\n\nChelan PUD is holding a series of Open Houses in March to talk with the community about consolidating its service operations at one\, new facility in Olds Station. The PUD wants your comments. To learn more about the proposal and to provide your comments   and enter to win an iPad   visit www.chelanpud.org/ServiceCenter
X-ALT-DESC;FMTTYPE=text/html:Chelan PUD is holding a series of Open Houses in March to talk with the community about consolidating its service operations at one\, new facility in Olds Station. The PUD wants your comments. To learn more about the proposal and to provide your comments &ndash\; and enter to win an iPad &ndash\; visit <a href="http://www.chelanpud.org/ServiceCenter">www.chelanpud.org/ServiceCenter</a>.&nbsp\; The Entiat-area Open House will be on March 25th from 4 &ndash\; 6 pm at the Entiat Fire Hall\, 2200 Entiat Way\, Entiat\, WA<br />\n<span style="font-family:calibri\,sans-serif\;"><span style="font-size:11.0pt\;">Chelan PUD is holding a series of Open Houses in March to talk with the community about consolidating its service operations at one\, new facility in Olds Station. The PUD wants your comments. To learn more about the proposal and to provide your comments &ndash\; and enter to win an iPad &ndash\; visit <a href="http://www.chelanpud.org/ServiceCenter">www.chelanpud.org/ServiceCenter</a>&nbsp\;</span></span>
LOCATION:Entiat Fire Hall\, 200 Entiat Way\, Entiat\, WA
UID:e.289.7189
SEQUENCE:3
DTSTAMP:20260425T232850Z
URL:https://business.wenatchee.org/events/details/chelan-pud-open-house-entiat-fire-hall-7189
END:VEVENT

END:VCALENDAR
