BEGIN:VCALENDAR
VERSION:2.0
PRODID:-//ChamberMaster//Event Calendar 2.0//EN
METHOD:PUBLISH
X-PUBLISHED-TTL:P3D
REFRESH-INTERVAL:P3D
CALSCALE:GREGORIAN
BEGIN:VEVENT
DTSTART:20190320T003000Z
DTEND:20190320T020000Z
X-MICROSOFT-CDO-ALLDAYEVENT:FALSE
SUMMARY:Chelan-Douglas Rides to Work Town Hall
DESCRIPTION:Have you ever had trouble getting to work or a job interview due to transportation? We want to hear from you! Help us solve this issue by bringing your personal stories and creative solutions to a community meeting.
X-ALT-DESC;FMTTYPE=text/html:Have you ever had trouble getting to work or a job interview due to transportation? We want to hear from you! Help us solve this issue by bringing your personal stories and creative solutions to a community meeting.
LOCATION:Wenatchee\, WA
UID:e.289.7178
SEQUENCE:3
DTSTAMP:20260426T012359Z
URL:https://business.wenatchee.org/events/details/chelan-douglas-rides-to-work-town-hall-7178
END:VEVENT

END:VCALENDAR
