BEGIN:VCALENDAR
VERSION:2.0
PRODID:-//ChamberMaster//Event Calendar 2.0//EN
METHOD:PUBLISH
X-PUBLISHED-TTL:P3D
REFRESH-INTERVAL:P3D
CALSCALE:GREGORIAN
BEGIN:VEVENT
DTSTART:20191102T010000Z
DTEND:20191102T040000Z
X-MICROSOFT-CDO-ALLDAYEVENT:FALSE
SUMMARY:Chelan-Douglas Land Trust Annual Celebration Dinner
DESCRIPTION:Come help us celebrate another year of working together for conservation!\n\nMake new acquaintances\, catch up with old friends\, enjoy great food and refreshment\, talk with Land Trust board and staff\, and learn about Land Trust projects accomplished by working together. Open to all - come learn about the Land Trust!
X-ALT-DESC;FMTTYPE=text/html:<p>Come help us celebrate another year of working together for conservation!</p>\n\n<p>Make new acquaintances\, catch up with old friends\, enjoy great food and refreshment\, talk with Land Trust board and staff\, and learn about Land Trust projects accomplished by working together. Open to all - come learn about the Land Trust!</p>\n
LOCATION:Leavenworth Festhalle 1001 Front St Leavenworth\, WA 98826
UID:e.289.7481
SEQUENCE:3
DTSTAMP:20260425T102116Z
URL:https://business.wenatchee.org/events/details/chelan-douglas-land-trust-annual-celebration-dinner-7481
END:VEVENT

END:VCALENDAR
