BEGIN:VCALENDAR
VERSION:2.0
PRODID:-//ChamberMaster//Event Calendar 2.0//EN
METHOD:PUBLISH
X-PUBLISHED-TTL:P3D
REFRESH-INTERVAL:P3D
CALSCALE:GREGORIAN
BEGIN:VEVENT
DTSTART:20191110T013000Z
DTEND:20191110T050000Z
X-MICROSOFT-CDO-ALLDAYEVENT:FALSE
SUMMARY:Chelan-Douglas Democratic Dinner
DESCRIPTION:All are welcome to the annual fundraising dinner for Chelan and Douglas County Democrats. "Kickstart 2020" will feature speeches by U.S. Rep. Kim Schrier and state Democratic Party Chair Tina Podlodowski. A no-host social hour with live music will start at 5:30 and dinner will be served at 6:30. Tickets may be purchased at the Democratic headquarters\, 768 S. Mission St\, Wenatchee\, (509) 436-8899.
X-ALT-DESC;FMTTYPE=text/html:All are welcome to the annual fundraising dinner for Chelan and Douglas County Democrats. &quot\;Kickstart 2020&quot\; will feature speeches by U.S. Rep. Kim Schrier and state Democratic Party Chair Tina Podlodowski. A no-host social hour with live music will start at 5:30 and dinner will be served at 6:30. Tickets may be purchased at the Democratic headquarters\, 768 S. Mission St\, Wenatchee\, (509) 436-8899.
LOCATION:Wenatchee Convention Center
UID:e.289.7516
SEQUENCE:3
DTSTAMP:20260425T114022Z
URL:https://business.wenatchee.org/events/details/chelan-douglas-democratic-dinner-7516
END:VEVENT

END:VCALENDAR
