BEGIN:VCALENDAR
VERSION:2.0
PRODID:-//ChamberMaster//Event Calendar 2.0//EN
METHOD:PUBLISH
X-PUBLISHED-TTL:P3D
REFRESH-INTERVAL:P3D
CALSCALE:GREGORIAN
BEGIN:VEVENT
DTSTART:20190618T200000Z
DTEND:20190618T213000Z
X-MICROSOFT-CDO-ALLDAYEVENT:FALSE
SUMMARY:Chelan County Commissioners Open Public Meeting
DESCRIPTION:The Chelan County Commissioners\, along with the Department of Community Development\, invite you to a public meeting. Commissioners and Staff will be discussing the next steps in moving forward with the management of Short Term/Vacation Rentals.\n\n\n\nThis will not be a public hearing\, hence no public testimony will be heard.
X-ALT-DESC;FMTTYPE=text/html:The Chelan County Commissioners\, along with the Department of Community Development\, invite you to a public meeting. Commissioners and Staff will be discussing the next steps in moving forward with the management of Short Term/Vacation Rentals.<br />\n<br />\nThis will not be a public hearing\, hence no public testimony will be heard.
LOCATION:Confluence Technology Center 285 Technology Center Way Wenatchee WA\, 98801
UID:e.289.7337
SEQUENCE:3
DTSTAMP:20260425T200655Z
URL:https://business.wenatchee.org/events/details/chelan-county-commissioners-open-public-meeting-7337
END:VEVENT

END:VCALENDAR
