BEGIN:VCALENDAR
VERSION:2.0
PRODID:-//ChamberMaster//Event Calendar 2.0//EN
METHOD:PUBLISH
X-PUBLISHED-TTL:P3D
REFRESH-INTERVAL:P3D
CALSCALE:GREGORIAN
BEGIN:VEVENT
DTSTART:20190927T003000Z
DTEND:20190927T023000Z
X-MICROSOFT-CDO-ALLDAYEVENT:FALSE
SUMMARY:Charter Schools 101
DESCRIPTION:Come learn about Washington State Charter schools and the vision for the proposed charter public school\, Pinnacles Prep
X-ALT-DESC;FMTTYPE=text/html:Come learn about Washington State Charter schools and the vision for the proposed charter public school\, Pinnacles Prep
LOCATION:504 S. Chelan St Wenatchee wa 98801
UID:e.289.7456
SEQUENCE:3
DTSTAMP:20260425T132906Z
URL:https://business.wenatchee.org/events/details/charter-schools-101-7456
END:VEVENT

END:VCALENDAR
