BEGIN:VCALENDAR
VERSION:2.0
PRODID:-//ChamberMaster//Event Calendar 2.0//EN
METHOD:PUBLISH
X-PUBLISHED-TTL:P3D
REFRESH-INTERVAL:P3D
CALSCALE:GREGORIAN
BEGIN:VEVENT
DTSTART:20100527T180000Z
DTEND:20100527T193000Z
X-MICROSOFT-CDO-ALLDAYEVENT:FALSE
SUMMARY:Chamber Expert Series
DESCRIPTION:Chamber Expert Series                       Presented by: Brian Campbell\, Pro Active Business Solutions Topic: Business FinancingAnswering the questions: 1. Why is it so difficult to obtain financing? 2. How do I prepare for making a loan application? 3. Where do I turn if the bank says no? 4.How can I increase cash flow and profit?
X-ALT-DESC;FMTTYPE=text/html:<div style="text-align: center"><u><strong><span style="font-size: x-large">Chamber Expert Series</span></strong></u></div><div style="text-align: left"><span style="font-size: large"><span style="font-size: medium"><span style="font-size: x-small">&nbsp\;&nbsp\;&nbsp\;&nbsp\;&nbsp\;&nbsp\;&nbsp\;&nbsp\;&nbsp\;&nbsp\;&nbsp\;&nbsp\;&nbsp\;&nbsp\;&nbsp\;&nbsp\;&nbsp\;&nbsp\;&nbsp\;&nbsp\;&nbsp\;&nbsp\;&nbsp\;Presented by: </span><strong><span style="font-size: x-small">Brian Campbell\, Pro Active Business Solutions</span></strong></span></span></div><div style="text-align: left">&nbsp\;</div><div style="text-align: left"><span style="font-size: medium">Topic:</span></div><div style="text-align: left">&nbsp\;</div><div style="text-align: left"><span style="font-size: medium">Business Financing</span></div><div style="text-align: left"><span style="font-size: medium"><span style="font-size: small">Answering the questions:</span></span></div><div style="text-align: left">&nbsp\;</div><div style="text-align: left"><span style="font-size: medium"><span style="font-size: small">1. Why is it so difficult to obtain financing?</span></span></div><div style="text-align: left">&nbsp\;</div><div style="text-align: left"><span style="font-size: medium"><span style="font-size: small">2. How do I prepare for making a loan application?</span></span></div><div style="text-align: left">&nbsp\;</div><div style="text-align: left"><span style="font-size: medium"><span style="font-size: small">3. Where do&nbsp\;I turn if the bank says no?</span></span></div><div style="text-align: left">&nbsp\;</div><div style="text-align: left"><span style="font-size: medium"><span style="font-size: small">4.How can I increase cash flow and profit?</span></span>&nbsp\;</div><div style="text-align: left">&nbsp\;</div>
LOCATION:Chamber Conference Room300 S. Columbia St. 3rd FloorWenatchee
UID:e.289.609
SEQUENCE:3
DTSTAMP:20260425T164808Z
URL:https://business.wenatchee.org/events/details/chamber-expert-series-05-27-2010-609
END:VEVENT

END:VCALENDAR
