BEGIN:VCALENDAR
VERSION:2.0
PRODID:-//ChamberMaster//Event Calendar 2.0//EN
METHOD:PUBLISH
X-PUBLISHED-TTL:P3D
REFRESH-INTERVAL:P3D
CALSCALE:GREGORIAN
BEGIN:VEVENT
DTSTART:20190919T160000Z
DTEND:20190920T220000Z
X-MICROSOFT-CDO-ALLDAYEVENT:FALSE
SUMMARY:Certificate in Grantwriting Class
DESCRIPTION:Are you ready to change the world? Do you have an idea about how to make your community a better place? Learn the art of grantwriting with Spark the Fire Grantwriting Classes. Spark the Fire Grantwriting Classes offers a two-day class followed by an individual assessment to earn a Certificate in Grantwriting. Walk step-by-step through writing every section of a winning grant proposal\, with dedicated writing time in class. You will love the fast-paced curriculum and numerous hands-on activities designed for strategy. Learn how to research new prospects and build an annual grants calendar. Learn best practices for communicating with and reporting to grantmakers. Critically evaluate guidelines and requests for proposals (rfp?s). Tailor the grant proposal to a given grantmaker\, review good writing skills\, develop outcomes\, and learn how grantmakers use evaluation rubrics to score proposals.
X-ALT-DESC;FMTTYPE=text/html:Are you ready to change the world? Do you have an idea about how to make your community a better place? Learn the art of grantwriting with Spark the Fire Grantwriting Classes. Spark the Fire Grantwriting Classes offers a two-day class followed by an individual assessment to earn a Certificate in Grantwriting. Walk step-by-step through writing every section of a winning grant proposal\, with dedicated writing time in class. You will love the fast-paced curriculum and numerous hands-on activities designed for strategy. Learn how to research new prospects and build an annual grants calendar. Learn best practices for communicating with and reporting to grantmakers. Critically evaluate guidelines and requests for proposals (rfp?s). Tailor the grant proposal to a given grantmaker\, review good writing skills\, develop outcomes\, and learn how grantmakers use evaluation rubrics to score proposals.
LOCATION:United Way of North Central Washington
UID:e.289.7378
SEQUENCE:3
DTSTAMP:20260425T145725Z
URL:https://business.wenatchee.org/events/details/certificate-in-grantwriting-class-7378
END:VEVENT

END:VCALENDAR
