BEGIN:VCALENDAR
VERSION:2.0
PRODID:-//ChamberMaster//Event Calendar 2.0//EN
METHOD:PUBLISH
X-PUBLISHED-TTL:P3D
REFRESH-INTERVAL:P3D
CALSCALE:GREGORIAN
BEGIN:VEVENT
DTSTART:20210429T160000Z
DTEND:20210429T210000Z
X-MICROSOFT-CDO-ALLDAYEVENT:FALSE
SUMMARY:Central Washington Home Builders Golf Classic
DESCRIPTION:Thursday\, April 29\, 2021 9:00 AM - 5:00 PM PST Bear Mountain Ranch Golf Course 1050 Bear Mountain Ranch Rd Chelan\, WA 98816 2021 CWHBA Golf Classic - North Central\, Bear Mountain Ranch Grab your clubs and spend a day on the course during this FUN MEMBER OUTING. It's a wonderful opportunity for members to get together for a little friendly competition\, promote your company's products & services\, and build new relationships. Thursday\, April 29th 9am - shotgun start followed by lunch and awards. $500/team Team & Single player cost includes: Greens Fee | Cart Rental | Pre-game Snacks | Boxed Lunch & Drink Ticket $25 CADDY PACK per person Caddy Pack includes: mulligan | chipping contest card | sponsor goodies
X-ALT-DESC;FMTTYPE=text/html:Thursday\, April 29\, 2021 9:00 AM - 5:00 PM PST Bear Mountain Ranch Golf Course 1050 Bear Mountain Ranch Rd Chelan\, WA 98816 2021 CWHBA Golf Classic - North Central\, Bear Mountain Ranch Grab your clubs and spend a day on the course during this FUN MEMBER OUTING. It&#39\;s a wonderful opportunity for members to get together for a little friendly competition\, promote your company&rsquo\;s products &amp\; services\, and build new relationships. Thursday\, April 29th 9am - shotgun start followed by lunch and awards. $500/team Team &amp\; Single player cost includes: Greens Fee | Cart Rental | Pre-game Snacks | Boxed Lunch &amp\; Drink Ticket $25 CADDY PACK per person Caddy Pack includes: mulligan | chipping contest card | sponsor goodies
LOCATION:Bear Mountain Ranch Golf Course 1050 Bear Mountain Ranch Rd Chelan\, WA 98816
UID:e.289.7830
SEQUENCE:3
DTSTAMP:20260422T183237Z
URL:https://business.wenatchee.org/events/details/central-washington-home-builders-golf-classic-7830
END:VEVENT

END:VCALENDAR
