BEGIN:VCALENDAR
VERSION:2.0
PRODID:-//ChamberMaster//Event Calendar 2.0//EN
METHOD:PUBLISH
X-PUBLISHED-TTL:P3D
REFRESH-INTERVAL:P3D
CALSCALE:GREGORIAN
BEGIN:VEVENT
DTSTART:20190109T013000Z
DTEND:20190109T030000Z
X-MICROSOFT-CDO-ALLDAYEVENT:FALSE
SUMMARY:CASA Informational Evening
DESCRIPTION:Now\, more than ever\, our valley needs CASA volunteers to speak up for children who have been removed from their homes due to abuse and neglect. Attend CASA's Informational Evening\, talk with CASA volunteers and staff\, and learn what being a CASA (Court Appointed Special Advocate) is all about. Stop by any time between 5:30-7 pm.
X-ALT-DESC;FMTTYPE=text/html:Now\, more than ever\, our valley needs CASA volunteers to speak up for children who have been removed from their homes due to abuse and neglect. Attend CASA&#39\;s Informational Evening\, talk with CASA volunteers and staff\, and learn what being a CASA (Court Appointed Special Advocate) is all about. Stop by any time between 5:30-7 pm.
LOCATION:431 Douglas St. Wenatchee
UID:e.289.7004
SEQUENCE:3
DTSTAMP:20260426T025355Z
URL:https://business.wenatchee.org/events/details/casa-informational-evening-01-08-2019-7004
END:VEVENT

END:VCALENDAR
