BEGIN:VCALENDAR
VERSION:2.0
PRODID:-//ChamberMaster//Event Calendar 2.0//EN
METHOD:PUBLISH
X-PUBLISHED-TTL:P3D
REFRESH-INTERVAL:P3D
CALSCALE:GREGORIAN
BEGIN:VEVENT
DTSTART:20191121T013000Z
DTEND:20191121T033000Z
X-MICROSOFT-CDO-ALLDAYEVENT:FALSE
SUMMARY:Careers After School
DESCRIPTION:Join Chelan PUD to learn about careers in communications and marketing. At this session you'll have opportunities to hone your skills in public  speaking\, community relations\, writing and working with the media. Come ready to learn new skills and ask questions of the PUD's communications team members.\n\n\n\nThose attending should park in the lot on the eastern side of the building and enter through our lower level Parks Dept. entrance. We will have a security guard there to get you into the building.\n\n\n\nCareers After School events are free and open to 6-12 grade students\, parents and educators. Light snacks and refreshments included. Space is limited so please RSVP
X-ALT-DESC;FMTTYPE=text/html:<div style="text-align: justify\;"><span style="language:en-US\;"><span style="color:#595959\;"><span style="font-family:franklin gothic book\;"><span style="font-size:12.0pt\;">Join Chelan PUD to learn about careers in communications and marketing. At this session you&#39\;ll have opportunities to hone your skills in public&nbsp\; speaking\, community relations\, writing and working with the media. Come ready to learn new skills and ask questions of the PUD&#39\;s communications team members.</span></span></span></span><br />\n<br />\n<span style="color: rgb(29\, 33\, 41)\; font-family: Helvetica\, Arial\, sans-serif\; font-size: 14px\; white-space: pre-wrap\; background-color: rgb(255\, 255\, 255)\;"><span style="font-size:16px\;"><span style="font-family:arial\;">Those attending should park in the lot on the eastern side of the building and enter through our lower level Parks Dept. entrance. We will have a security guard there to get you into the building.</span></span></span><br />\n<br />\n<span style="language:en-US\;"><span style="color:#595959\;"><span style="font-family:franklin gothic book\;"><span style="font-size:12.0pt\;">Careers After School events are free and open to 6-12 grade students\, parents and educators. Light snacks and refreshments included. Space is limited so please RSVP</span></span></span></span></div>\n
LOCATION:Chelan County PUD 327 N. Wenatchee Ave. Wenatchee\, WA 98801
UID:e.289.7495
SEQUENCE:3
DTSTAMP:20260425T101900Z
URL:https://business.wenatchee.org/events/details/careers-after-school-7495
END:VEVENT

END:VCALENDAR
