BEGIN:VCALENDAR
VERSION:2.0
PRODID:-//ChamberMaster//Event Calendar 2.0//EN
METHOD:PUBLISH
X-PUBLISHED-TTL:P3D
REFRESH-INTERVAL:P3D
CALSCALE:GREGORIAN
BEGIN:VEVENT
DTSTART:20190522T000000Z
DTEND:20190522T020000Z
X-MICROSOFT-CDO-ALLDAYEVENT:FALSE
SUMMARY:Careers After School
DESCRIPTION:Generation mechanics are responsible for maintaining\, repairing\, replacing and testing mechanical equipment at Chelan PUD hydro projects. Take a deep dive with this specialized job and learn how they maintain and repair fish ladders\, turbines\, pumps\, and other equipment through underwater welding\, rigging\, fabrication and crane operation.\n\n \n\nCareers After School events are free and open to 6-12 grade students\, parents and educators. Light snacks and refreshments included. Space is limited so please RSVP!
X-ALT-DESC;FMTTYPE=text/html:<span style="language:en-US\;"><span style="font-family:franklin gothic book\;"><span style="font-size:12.0pt\;">Generation mechanics are responsible for maintaining\, repairing\, replacing and testing&nbsp\;mechanical equipment at Chelan PUD hydro projects. Take a deep dive with this specialized job and learn how they maintain and repair fish ladders\, turbines\, pumps\, and other equipment through underwater welding\, rigging\, fabrication and crane operation.</span></span></span><br />\n&nbsp\;<br />\n<span style="language:en-US\;"><span style="font-family:franklin gothic book\;"><span style="font-size:12.0pt\;">Careers After School events are free and open to 6-12 grade students\, parents and educators. Light snacks and refreshments included. Space is limited so please RSVP!</span></span></span><br />\n&nbsp\;
LOCATION:Rocky Reach Dam 6151 US-97 ALT\, Wenatchee
UID:e.289.7277
SEQUENCE:3
DTSTAMP:20260425T200408Z
URL:https://business.wenatchee.org/events/details/careers-after-school-7277
END:VEVENT

END:VCALENDAR
