BEGIN:VCALENDAR
VERSION:2.0
PRODID:-//ChamberMaster//Event Calendar 2.0//EN
METHOD:PUBLISH
X-PUBLISHED-TTL:P3D
REFRESH-INTERVAL:P3D
CALSCALE:GREGORIAN
BEGIN:VEVENT
DTSTART:20201014T150000Z
DTEND:20201014T160000Z
X-MICROSOFT-CDO-ALLDAYEVENT:FALSE
SUMMARY:Candidate Forums
DESCRIPTION:Get to know the candidates for US Congress   4th & 8th districts on October 14th\, Chelan County Commission   district 3\, and House of Representatives   12th Legislative District candidates on October 15th\, at our Candidate Forum Series sponsored by Skeeterbuggins Productions. Each candidate will be asked 3 questions so that you can learn more about where they stand on key issues impacting our community. Make sure to tune in before you cast your ballot this fall. The forums will be broadcast live via Zoom and Facebook Live.  \n\n \n\nRegister at www.wenatchee.org to get the Zoom information or follow us on Facebook to see the live stream.
X-ALT-DESC;FMTTYPE=text/html:<span style="font-family:century gothic\,sans-serif\;"><span style="font-size:12.0pt\;">Get to know the candidates for US Congress &ndash\; 4<sup>th</sup> &amp\; 8<sup>th</sup> districts on October 14<sup>th</sup>\, Chelan County Commission &ndash\; district 3\, and House of Representatives &ndash\; 12<sup>th</sup> Legislative District candidates on October 15<sup>th</sup>\, at our Candidate Forum Series sponsored by Skeeterbuggins Productions. Each candidate will be asked 3 questions so that you can learn more about where they stand on key issues impacting our community. Make sure to tune in before you cast your ballot this fall. The forums will be broadcast live via Zoom and Facebook Live.&nbsp\; </span></span><br />\n&nbsp\;<br />\n<span style="font-family:century gothic\,sans-serif\;"><span style="font-size:12.0pt\;">Register at </span></span><a href="http://www.wenatchee.org/"><span style="font-family:century gothic\,sans-serif\;"><span style="font-size:12.0pt\;">www.wenatchee.org</span></span></a><span style="font-family:century gothic\,sans-serif\;"><span style="font-size:12.0pt\;"> to get the Zoom information or follow us on Facebook to see the live stream.</span></span>
LOCATION:Zoom / Facebook Live
UID:e.289.7760
SEQUENCE:3
DTSTAMP:20260424T154122Z
URL:https://business.wenatchee.org/events/details/candidate-forums-7760
END:VEVENT

END:VCALENDAR
