BEGIN:VCALENDAR
VERSION:2.0
PRODID:-//ChamberMaster//Event Calendar 2.0//EN
METHOD:PUBLISH
X-PUBLISHED-TTL:P3D
REFRESH-INTERVAL:P3D
CALSCALE:GREGORIAN
BEGIN:VEVENT
DTSTART:20191017T143000Z
DTEND:20191017T154500Z
X-MICROSOFT-CDO-ALLDAYEVENT:FALSE
SUMMARY:Candidate Forum - School Boards
DESCRIPTION:Enjoy a continental breakfast and hear from local Eastmont and Wenatchee school board candidates as they answer questions at the Wenatchee Valley Chamber of Commerce Candidate Forum. \n\nBrought to you by the Chamber's Advocacy Committee
X-ALT-DESC;FMTTYPE=text/html:Enjoy a continental breakfast and hear from local Eastmont and Wenatchee school board candidates as they answer questions at the Wenatchee Valley Chamber of Commerce Candidate Forum.&nbsp\;<br />\nBrought to you by the Chamber&#39\;s Advocacy Committee
LOCATION:Wenatchee Convention Center 121 N. Wenatchee Ave Harvest Blossom Room - upstairs
UID:e.289.7478
SEQUENCE:3
DTSTAMP:20260425T114839Z
URL:https://business.wenatchee.org/events/details/candidate-forum-school-boards-7478
END:VEVENT

END:VCALENDAR
