BEGIN:VCALENDAR
VERSION:2.0
PRODID:-//ChamberMaster//Event Calendar 2.0//EN
METHOD:PUBLISH
X-PUBLISHED-TTL:P3D
REFRESH-INTERVAL:P3D
CALSCALE:GREGORIAN
BEGIN:VEVENT
DTSTART:20191022T143000Z
DTEND:20191022T154500Z
X-MICROSOFT-CDO-ALLDAYEVENT:FALSE
SUMMARY:Candidate Forum - City Councils and E. Wen. Mayor
DESCRIPTION:The Advocacy Committee of the Wenatchee Valley Chamber of Commerce will host city council candidates for our two cities and candidates for the East Wenatchee Mayoral race.  You are invited to hear from them while enjoying a continental breakfast.
X-ALT-DESC;FMTTYPE=text/html:The Advocacy Committee of the Wenatchee Valley Chamber of Commerce will host city council candidates for our two cities and candidates for the East Wenatchee Mayoral race.&nbsp\; You are invited to hear from them while enjoying a continental breakfast.
LOCATION:Town Toyota Center Crunch Pak Room located on the first floor between the two ice rinks
UID:e.289.7479
SEQUENCE:3
DTSTAMP:20260425T120424Z
URL:https://business.wenatchee.org/events/details/candidate-forum-city-councils-and-e-wen-mayor-7479
END:VEVENT

END:VCALENDAR
