BEGIN:VCALENDAR
VERSION:2.0
PRODID:-//ChamberMaster//Event Calendar 2.0//EN
METHOD:PUBLISH
X-PUBLISHED-TTL:P3D
REFRESH-INTERVAL:P3D
CALSCALE:GREGORIAN
BEGIN:VEVENT
DTSTART:20191031T153000Z
DTEND:20191031T163000Z
X-MICROSOFT-CDO-ALLDAYEVENT:FALSE
SUMMARY:Business Safety Meeting
DESCRIPTION:Safety\, Recognizing Fraud\, Counterfeit Bills\, Shoplifting\, and Other Issues in Your Business\n\nThis workshop will have information provided by Kirk Drolet\, Detective - Wenatchee Police Department\n\n\n\nWith the increase of counterfeit bills being distributed in not only the downtown but the community and an increase in reports of shoplifting\, homeless issues\, we thought the timing prior to going into the 4th quarter was perfect.  Also a refresher on best safety practice with winter approaching.  \n\n \n\nYou are welcome to come and or send staff.  As always this is FREE and we will provide coffee and some morning goodies.  Thank you to the Convention Center for hosting and helping us with this workshop.\n\n \n\nAn RSVP is requested so we have an accurate head count.  Thank you!!
X-ALT-DESC;FMTTYPE=text/html:<strong>Safety\, Recognizing Fraud\, Counterfeit Bills\, Shoplifting\, and Other Issues in Your Business</strong><br />\nThis workshop will have information provided by Kirk Drolet\, Detective - Wenatchee Police Department<br />\n<br />\n<span style="font-size:14px\;"><strong>With the increase of counterfeit bills being distributed in not only the downtown but the community and an increase in reports of shoplifting\, homeless issues\, we thought the timing prior to going into the 4<sup>th</sup> quarter was perfect.&nbsp\; Also a refresher on best safety practice with winter approaching.&nbsp\; </strong><br />\n&nbsp\;<br />\n<strong>You are welcome to come and or send staff.&nbsp\; As always this is FREE and we will provide coffee and some morning goodies.&nbsp\; Thank you to the Convention Center for hosting and helping us with this workshop.</strong><br />\n&nbsp\;<br />\n<strong>An RSVP is requested so we have an accurate head count.&nbsp\; Thank you!!</strong></span><br />\n<br />\n&nbsp\;
LOCATION:Wenatchee Convention Center
UID:e.289.7512
SEQUENCE:3
DTSTAMP:20260425T134420Z
URL:https://business.wenatchee.org/events/details/business-safety-meeting-7512
END:VEVENT

END:VCALENDAR
